Workbook

Sheet Assets
A1: Asset | B1: Placed in service | C1: Cost | D1: Recovery period (years) | E1: Business use | F1: Vehicle (No, Car, SUV, Heavy) | G1: Section 179 elected | H1: Bonus (Yes, No or a rate) | I1: Convention | J1: Bonus rate | K1: Section 179 allowed | L1: Bonus depreciation | M1: MACRS basis | N1: Depreciation this tax year | O1: Accumulated at year end | P1: Remaining basis | R1: Valid | S1: Use | T1: Cost x use | U1: Placed year | V1: Real property | W1: ADS | X1: Car | Y1: 179 eligible | Z1: Car first-year cap | AA1: 179 capped | AB1: Mid-quarter test basis | AC1: Fourth quarter | AD1: Table key | AE1: Listed | AF1: 179 deducted
I2: =IF(R2=0,"",IF(V2=1,"MM",IF(IFERROR(SUMPRODUCT(($U$2:$U$201=U2)*$AB$2:$AB$201*$AC$2:$AC$201)/SUMPRODUCT(($U$2:$U$201=U2)*$AB$2:$AB$201),0)>0.4,"MQ","HY"))) | J2: =IF(OR(R2=0,V2=1,W2=1),0,IF(ISNUMBER(H2),H2,IF(H2="No",0,IFERROR(VLOOKUP(B2,Limits!$D$2:$E$9,2,1),0)))) | K2: =AA2*IF(U2='Form 4562'!$B$3,'Form 4562'!$B$15,1) | L2: =(T2-K2)*J2 | M2: =T2-K2-L2 | N2: =IF(R2=0,0,IF(AND(('Form 4562'!$B$3-U2+1)>=1,('Form 4562'!$B$3-U2+1)<=40),INDEX(Schedule!$I$2:$AV$2,1,('Form 4562'!$B$3-U2+1)),0)) | O2: =IF(R2=0,0,SUMIF(Schedule!$I$1:$AV$1,"<="&('Form 4562'!$B$3-U2+1),Schedule!$I$2:$AV$2)) | P2: =T2-O2-(K2-AF2) | R2: =IF(AND(ISNUMBER(B2),ISNUMBER(C2)),IF(C2>0,1,0),0) | S2: =IF(ISNUMBER(E2),MIN(1,MAX(0,E2)),1) | T2: =IF(R2=1,C2*S2,0) | U2: =IF(R2=1,YEAR(B2),0) | V2: =IF(OR(D2=27.5,D2=39),1,0) | W2: =IF(AND(AE2=1,S2<=0.5),1,0) | X2: =IF(F2="Car",1,0) | Y2: =IF(AND(R2=1,OR(V2=0,AND(D2=39,IF(ISNUMBER(G2),G2,0)>0)),W2=0,S2>0.5),1,0) | Z2: =IF(X2=1,IF(J2>0,Limits!$B$5,Limits!$B$6)*S2,0) | AA2: =IF(Y2=1,MIN(IF(ISNUMBER(G2),MAX(0,G2),0),T2,IF(F2="SUV",Limits!$B$4,T2),IF(X2=1,Z2,T2)),0) | AB2: =IF(AND(R2=1,V2=0),T2-K2,0) | AC2: =IF(R2=1,IF(MONTH(B2)>=10,1,0),0) | AD2: =IF(R2=0,"",IF(V2=1,D2&"-MM"&MONTH(B2),IF(W2=1,"ADS",D2&"")&"-"&IF(I2="MQ","MQ"&ROUNDUP(MONTH(B2)/3,0),"HY"))) | AE2: =IF(OR(F2="",F2="No"),0,1) | AF2: =K2*IF(U2='Form 4562'!$B$3,'Form 4562'!$B$16,1)
I3: =IF(R3=0,"",IF(V3=1,"MM",IF(IFERROR(SUMPRODUCT(($U$2:$U$201=U3)*$AB$2:$AB$201*$AC$2:$AC$201)/SUMPRODUCT(($U$2:$U$201=U3)*$AB$2:$AB$201),0)>0.4,"MQ","HY"))) | J3: =IF(OR(R3=0,V3=1,W3=1),0,IF(ISNUMBER(H3),H3,IF(H3="No",0,IFERROR(VLOOKUP(B3,Limits!$D$2:$E$9,2,1),0)))) | K3: =AA3*IF(U3='Form 4562'!$B$3,'Form 4562'!$B$15,1) | L3: =(T3-K3)*J3 | M3: =T3-K3-L3 | N3: =IF(R3=0,0,IF(AND(('Form 4562'!$B$3-U3+1)>=1,('Form 4562'!$B$3-U3+1)<=40),INDEX(Schedule!$I$3:$AV$3,1,('Form 4562'!$B$3-U3+1)),0)) | O3: =IF(R3=0,0,SUMIF(Schedule!$I$1:$AV$1,"<="&('Form 4562'!$B$3-U3+1),Schedule!$I$3:$AV$3)) | P3: =T3-O3-(K3-AF3) | R3: =IF(AND(ISNUMBER(B3),ISNUMBER(C3)),IF(C3>0,1,0),0) | S3: =IF(ISNUMBER(E3),MIN(1,MAX(0,E3)),1) | T3: =IF(R3=1,C3*S3,0) | U3: =IF(R3=1,YEAR(B3),0) | V3: =IF(OR(D3=27.5,D3=39),1,0) | W3: =IF(AND(AE3=1,S3<=0.5),1,0) | X3: =IF(F3="Car",1,0) | Y3: =IF(AND(R3=1,OR(V3=0,AND(D3=39,IF(ISNUMBER(G3),G3,0)>0)),W3=0,S3>0.5),1,0) | Z3: =IF(X3=1,IF(J3>0,Limits!$B$5,Limits!$B$6)*S3,0) | AA3: =IF(Y3=1,MIN(IF(ISNUMBER(G3),MAX(0,G3),0),T3,IF(F3="SUV",Limits!$B$4,T3),IF(X3=1,Z3,T3)),0) | AB3: =IF(AND(R3=1,V3=0),T3-K3,0) | AC3: =IF(R3=1,IF(MONTH(B3)>=10,1,0),0) | AD3: =IF(R3=0,"",IF(V3=1,D3&"-MM"&MONTH(B3),IF(W3=1,"ADS",D3&"")&"-"&IF(I3="MQ","MQ"&ROUNDUP(MONTH(B3)/3,0),"HY"))) | AE3: =IF(OR(F3="",F3="No"),0,1) | AF3: =K3*IF(U3='Form 4562'!$B$3,'Form 4562'!$B$16,1)
I4: =IF(R4=0,"",IF(V4=1,"MM",IF(IFERROR(SUMPRODUCT(($U$2:$U$201=U4)*$AB$2:$AB$201*$AC$2:$AC$201)/SUMPRODUCT(($U$2:$U$201=U4)*$AB$2:$AB$201),0)>0.4,"MQ","HY"))) | J4: =IF(OR(R4=0,V4=1,W4=1),0,IF(ISNUMBER(H4),H4,IF(H4="No",0,IFERROR(VLOOKUP(B4,Limits!$D$2:$E$9,2,1),0)))) | K4: =AA4*IF(U4='Form 4562'!$B$3,'Form 4562'!$B$15,1) | L4: =(T4-K4)*J4 | M4: =T4-K4-L4 | N4: =IF(R4=0,0,IF(AND(('Form 4562'!$B$3-U4+1)>=1,('Form 4562'!$B$3-U4+1)<=40),INDEX(Schedule!$I$4:$AV$4,1,('Form 4562'!$B$3-U4+1)),0)) | O4: =IF(R4=0,0,SUMIF(Schedule!$I$1:$AV$1,"<="&('Form 4562'!$B$3-U4+1),Schedule!$I$4:$AV$4)) | P4: =T4-O4-(K4-AF4) | R4: =IF(AND(ISNUMBER(B4),ISNUMBER(C4)),IF(C4>0,1,0),0) | S4: =IF(ISNUMBER(E4),MIN(1,MAX(0,E4)),1) | T4: =IF(R4=1,C4*S4,0) | U4: =IF(R4=1,YEAR(B4),0) | V4: =IF(OR(D4=27.5,D4=39),1,0) | W4: =IF(AND(AE4=1,S4<=0.5),1,0) | X4: =IF(F4="Car",1,0) | Y4: =IF(AND(R4=1,OR(V4=0,AND(D4=39,IF(ISNUMBER(G4),G4,0)>0)),W4=0,S4>0.5),1,0) | Z4: =IF(X4=1,IF(J4>0,Limits!$B$5,Limits!$B$6)*S4,0) | AA4: =IF(Y4=1,MIN(IF(ISNUMBER(G4),MAX(0,G4),0),T4,IF(F4="SUV",Limits!$B$4,T4),IF(X4=1,Z4,T4)),0) | AB4: =IF(AND(R4=1,V4=0),T4-K4,0) | AC4: =IF(R4=1,IF(MONTH(B4)>=10,1,0),0) | AD4: =IF(R4=0,"",IF(V4=1,D4&"-MM"&MONTH(B4),IF(W4=1,"ADS",D4&"")&"-"&IF(I4="MQ","MQ"&ROUNDUP(MONTH(B4)/3,0),"HY"))) | AE4: =IF(OR(F4="",F4="No"),0,1) | AF4: =K4*IF(U4='Form 4562'!$B$3,'Form 4562'!$B$16,1)
I5: =IF(R5=0,"",IF(V5=1,"MM",IF(IFERROR(SUMPRODUCT(($U$2:$U$201=U5)*$AB$2:$AB$201*$AC$2:$AC$201)/SUMPRODUCT(($U$2:$U$201=U5)*$AB$2:$AB$201),0)>0.4,"MQ","HY"))) | J5: =IF(OR(R5=0,V5=1,W5=1),0,IF(ISNUMBER(H5),H5,IF(H5="No",0,IFERROR(VLOOKUP(B5,Limits!$D$2:$E$9,2,1),0)))) | K5: =AA5*IF(U5='Form 4562'!$B$3,'Form 4562'!$B$15,1) | L5: =(T5-K5)*J5 | M5: =T5-K5-L5 | N5: =IF(R5=0,0,IF(AND(('Form 4562'!$B$3-U5+1)>=1,('Form 4562'!$B$3-U5+1)<=40),INDEX(Schedule!$I$5:$AV$5,1,('Form 4562'!$B$3-U5+1)),0)) | O5: =IF(R5=0,0,SUMIF(Schedule!$I$1:$AV$1,"<="&('Form 4562'!$B$3-U5+1),Schedule!$I$5:$AV$5)) | P5: =T5-O5-(K5-AF5) | R5: =IF(AND(ISNUMBER(B5),ISNUMBER(C5)),IF(C5>0,1,0),0) | S5: =IF(ISNUMBER(E5),MIN(1,MAX(0,E5)),1) | T5: =IF(R5=1,C5*S5,0) | U5: =IF(R5=1,YEAR(B5),0) | V5: =IF(OR(D5=27.5,D5=39),1,0) | W5: =IF(AND(AE5=1,S5<=0.5),1,0) | X5: =IF(F5="Car",1,0) | Y5: =IF(AND(R5=1,OR(V5=0,AND(D5=39,IF(ISNUMBER(G5),G5,0)>0)),W5=0,S5>0.5),1,0) | Z5: =IF(X5=1,IF(J5>0,Limits!$B$5,Limits!$B$6)*S5,0) | AA5: =IF(Y5=1,MIN(IF(ISNUMBER(G5),MAX(0,G5),0),T5,IF(F5="SUV",Limits!$B$4,T5),IF(X5=1,Z5,T5)),0) | AB5: =IF(AND(R5=1,V5=0),T5-K5,0) | AC5: =IF(R5=1,IF(MONTH(B5)>=10,1,0),0) | AD5: =IF(R5=0,"",IF(V5=1,D5&"-MM"&MONTH(B5),IF(W5=1,"ADS",D5&"")&"-"&IF(I5="MQ","MQ"&ROUNDUP(MONTH(B5)/3,0),"HY"))) | AE5: =IF(OR(F5="",F5="No"),0,1) | AF5: =K5*IF(U5='Form 4562'!$B$3,'Form 4562'!$B$16,1)
I6: =IF(R6=0,"",IF(V6=1,"MM",IF(IFERROR(SUMPRODUCT(($U$2:$U$201=U6)*$AB$2:$AB$201*$AC$2:$AC$201)/SUMPRODUCT(($U$2:$U$201=U6)*$AB$2:$AB$201),0)>0.4,"MQ","HY"))) | J6: =IF(OR(R6=0,V6=1,W6=1),0,IF(ISNUMBER(H6),H6,IF(H6="No",0,IFERROR(VLOOKUP(B6,Limits!$D$2:$E$9,2,1),0)))) | K6: =AA6*IF(U6='Form 4562'!$B$3,'Form 4562'!$B$15,1) | L6: =(T6-K6)*J6 | M6: =T6-K6-L6 | N6: =IF(R6=0,0,IF(AND(('Form 4562'!$B$3-U6+1)>=1,('Form 4562'!$B$3-U6+1)<=40),INDEX(Schedule!$I$6:$AV$6,1,('Form 4562'!$B$3-U6+1)),0)) | O6: =IF(R6=0,0,SUMIF(Schedule!$I$1:$AV$1,"<="&('Form 4562'!$B$3-U6+1),Schedule!$I$6:$AV$6)) | P6: =T6-O6-(K6-AF6) | R6: =IF(AND(ISNUMBER(B6),ISNUMBER(C6)),IF(C6>0,1,0),0) | S6: =IF(ISNUMBER(E6),MIN(1,MAX(0,E6)),1) | T6: =IF(R6=1,C6*S6,0) | U6: =IF(R6=1,YEAR(B6),0) | V6: =IF(OR(D6=27.5,D6=39),1,0) | W6: =IF(AND(AE6=1,S6<=0.5),1,0) | X6: =IF(F6="Car",1,0) | Y6: =IF(AND(R6=1,OR(V6=0,AND(D6=39,IF(ISNUMBER(G6),G6,0)>0)),W6=0,S6>0.5),1,0) | Z6: =IF(X6=1,IF(J6>0,Limits!$B$5,Limits!$B$6)*S6,0) | AA6: =IF(Y6=1,MIN(IF(ISNUMBER(G6),MAX(0,G6),0),T6,IF(F6="SUV",Limits!$B$4,T6),IF(X6=1,Z6,T6)),0) | AB6: =IF(AND(R6=1,V6=0),T6-K6,0) | AC6: =IF(R6=1,IF(MONTH(B6)>=10,1,0),0) | AD6: =IF(R6=0,"",IF(V6=1,D6&"-MM"&MONTH(B6),IF(W6=1,"ADS",D6&"")&"-"&IF(I6="MQ","MQ"&ROUNDUP(MONTH(B6)/3,0),"HY"))) | AE6: =IF(OR(F6="",F6="No"),0,1) | AF6: =K6*IF(U6='Form 4562'!$B$3,'Form 4562'!$B$16,1)
I7: =IF(R7=0,"",IF(V7=1,"MM",IF(IFERROR(SUMPRODUCT(($U$2:$U$201=U7)*$AB$2:$AB$201*$AC$2:$AC$201)/SUMPRODUCT(($U$2:$U$201=U7)*$AB$2:$AB$201),0)>0.4,"MQ","HY"))) | J7: =IF(OR(R7=0,V7=1,W7=1),0,IF(ISNUMBER(H7),H7,IF(H7="No",0,IFERROR(VLOOKUP(B7,Limits!$D$2:$E$9,2,1),0)))) | K7: =AA7*IF(U7='Form 4562'!$B$3,'Form 4562'!$B$15,1) | L7: =(T7-K7)*J7 | M7: =T7-K7-L7 | N7: =IF(R7=0,0,IF(AND(('Form 4562'!$B$3-U7+1)>=1,('Form 4562'!$B$3-U7+1)<=40),INDEX(Schedule!$I$7:$AV$7,1,('Form 4562'!$B$3-U7+1)),0)) | O7: =IF(R7=0,0,SUMIF(Schedule!$I$1:$AV$1,"<="&('Form 4562'!$B$3-U7+1),Schedule!$I$7:$AV$7)) | P7: =T7-O7-(K7-AF7) | R7: =IF(AND(ISNUMBER(B7),ISNUMBER(C7)),IF(C7>0,1,0),0) | S7: =IF(ISNUMBER(E7),MIN(1,MAX(0,E7)),1) | T7: =IF(R7=1,C7*S7,0) | U7: =IF(R7=1,YEAR(B7),0) | V7: =IF(OR(D7=27.5,D7=39),1,0) | W7: =IF(AND(AE7=1,S7<=0.5),1,0) | X7: =IF(F7="Car",1,0) | Y7: =IF(AND(R7=1,OR(V7=0,AND(D7=39,IF(ISNUMBER(G7),G7,0)>0)),W7=0,S7>0.5),1,0) | Z7: =IF(X7=1,IF(J7>0,Limits!$B$5,Limits!$B$6)*S7,0) | AA7: =IF(Y7=1,MIN(IF(ISNUMBER(G7),MAX(0,G7),0),T7,IF(F7="SUV",Limits!$B$4,T7),IF(X7=1,Z7,T7)),0) | AB7: =IF(AND(R7=1,V7=0),T7-K7,0) | AC7: =IF(R7=1,IF(MONTH(B7)>=10,1,0),0) | AD7: =IF(R7=0,"",IF(V7=1,D7&"-MM"&MONTH(B7),IF(W7=1,"ADS",D7&"")&"-"&IF(I7="MQ","MQ"&ROUNDUP(MONTH(B7)/3,0),"HY"))) | AE7: =IF(OR(F7="",F7="No"),0,1) | AF7: =K7*IF(U7='Form 4562'!$B$3,'Form 4562'!$B$16,1)
I8: =IF(R8=0,"",IF(V8=1,"MM",IF(IFERROR(SUMPRODUCT(($U$2:$U$201=U8)*$AB$2:$AB$201*$AC$2:$AC$201)/SUMPRODUCT(($U$2:$U$201=U8)*$AB$2:$AB$201),0)>0.4,"MQ","HY"))) | J8: =IF(OR(R8=0,V8=1,W8=1),0,IF(ISNUMBER(H8),H8,IF(H8="No",0,IFERROR(VLOOKUP(B8,Limits!$D$2:$E$9,2,1),0)))) | K8: =AA8*IF(U8='Form 4562'!$B$3,'Form 4562'!$B$15,1) | L8: =(T8-K8)*J8 | M8: =T8-K8-L8 | N8: =IF(R8=0,0,IF(AND(('Form 4562'!$B$3-U8+1)>=1,('Form 4562'!$B$3-U8+1)<=40),INDEX(Schedule!$I$8:$AV$8,1,('Form 4562'!$B$3-U8+1)),0)) | O8: =IF(R8=0,0,SUMIF(Schedule!$I$1:$AV$1,"<="&('Form 4562'!$B$3-U8+1),Schedule!$I$8:$AV$8)) | P8: =T8-O8-(K8-AF8) | R8: =IF(AND(ISNUMBER(B8),ISNUMBER(C8)),IF(C8>0,1,0),0) | S8: =IF(ISNUMBER(E8),MIN(1,MAX(0,E8)),1) | T8: =IF(R8=1,C8*S8,0) | U8: =IF(R8=1,YEAR(B8),0) | V8: =IF(OR(D8=27.5,D8=39),1,0) | W8: =IF(AND(AE8=1,S8<=0.5),1,0) | X8: =IF(F8="Car",1,0) | Y8: =IF(AND(R8=1,OR(V8=0,AND(D8=39,IF(ISNUMBER(G8),G8,0)>0)),W8=0,S8>0.5),1,0) | Z8: =IF(X8=1,IF(J8>0,Limits!$B$5,Limits!$B$6)*S8,0) | AA8: =IF(Y8=1,MIN(IF(ISNUMBER(G8),MAX(0,G8),0),T8,IF(F8="SUV",Limits!$B$4,T8),IF(X8=1,Z8,T8)),0) | AB8: =IF(AND(R8=1,V8=0),T8-K8,0) | AC8: =IF(R8=1,IF(MONTH(B8)>=10,1,0),0) | AD8: =IF(R8=0,"",IF(V8=1,D8&"-MM"&MONTH(B8),IF(W8=1,"ADS",D8&"")&"-"&IF(I8="MQ","MQ"&ROUNDUP(MONTH(B8)/3,0),"HY"))) | AE8: =IF(OR(F8="",F8="No"),0,1) | AF8: =K8*IF(U8='Form 4562'!$B$3,'Form 4562'!$B$16,1)
I9: =IF(R9=0,"",IF(V9=1,"MM",IF(IFERROR(SUMPRODUCT(($U$2:$U$201=U9)*$AB$2:$AB$201*$AC$2:$AC$201)/SUMPRODUCT(($U$2:$U$201=U9)*$AB$2:$AB$201),0)>0.4,"MQ","HY"))) | J9: =IF(OR(R9=0,V9=1,W9=1),0,IF(ISNUMBER(H9),H9,IF(H9="No",0,IFERROR(VLOOKUP(B9,Limits!$D$2:$E$9,2,1),0)))) | K9: =AA9*IF(U9='Form 4562'!$B$3,'Form 4562'!$B$15,1) | L9: =(T9-K9)*J9 | M9: =T9-K9-L9 | N9: =IF(R9=0,0,IF(AND(('Form 4562'!$B$3-U9+1)>=1,('Form 4562'!$B$3-U9+1)<=40),INDEX(Schedule!$I$9:$AV$9,1,('Form 4562'!$B$3-U9+1)),0)) | O9: =IF(R9=0,0,SUMIF(Schedule!$I$1:$AV$1,"<="&('Form 4562'!$B$3-U9+1),Schedule!$I$9:$AV$9)) | P9: =T9-O9-(K9-AF9) | R9: =IF(AND(ISNUMBER(B9),ISNUMBER(C9)),IF(C9>0,1,0),0) | S9: =IF(ISNUMBER(E9),MIN(1,MAX(0,E9)),1) | T9: =IF(R9=1,C9*S9,0) | U9: =IF(R9=1,YEAR(B9),0) | V9: =IF(OR(D9=27.5,D9=39),1,0) | W9: =IF(AND(AE9=1,S9<=0.5),1,0) | X9: =IF(F9="Car",1,0) | Y9: =IF(AND(R9=1,OR(V9=0,AND(D9=39,IF(ISNUMBER(G9),G9,0)>0)),W9=0,S9>0.5),1,0) | Z9: =IF(X9=1,IF(J9>0,Limits!$B$5,Limits!$B$6)*S9,0) | AA9: =IF(Y9=1,MIN(IF(ISNUMBER(G9),MAX(0,G9),0),T9,IF(F9="SUV",Limits!$B$4,T9),IF(X9=1,Z9,T9)),0) | AB9: =IF(AND(R9=1,V9=0),T9-K9,0) | AC9: =IF(R9=1,IF(MONTH(B9)>=10,1,0),0) | AD9: =IF(R9=0,"",IF(V9=1,D9&"-MM"&MONTH(B9),IF(W9=1,"ADS",D9&"")&"-"&IF(I9="MQ","MQ"&ROUNDUP(MONTH(B9)/3,0),"HY"))) | AE9: =IF(OR(F9="",F9="No"),0,1) | AF9: =K9*IF(U9='Form 4562'!$B$3,'Form 4562'!$B$16,1)
I10: =IF(R10=0,"",IF(V10=1,"MM",IF(IFERROR(SUMPRODUCT(($U$2:$U$201=U10)*$AB$2:$AB$201*$AC$2:$AC$201)/SUMPRODUCT(($U$2:$U$201=U10)*$AB$2:$AB$201),0)>0.4,"MQ","HY"))) | J10: =IF(OR(R10=0,V10=1,W10=1),0,IF(ISNUMBER(H10),H10,IF(H10="No",0,IFERROR(VLOOKUP(B10,Limits!$D$2:$E$9,2,1),0)))) | K10: =AA10*IF(U10='Form 4562'!$B$3,'Form 4562'!$B$15,1) | L10: =(T10-K10)*J10 | M10: =T10-K10-L10 | N10: =IF(R10=0,0,IF(AND(('Form 4562'!$B$3-U10+1)>=1,('Form 4562'!$B$3-U10+1)<=40),INDEX(Schedule!$I$10:$AV$10,1,('Form 4562'!$B$3-U10+1)),0)) | O10: =IF(R10=0,0,SUMIF(Schedule!$I$1:$AV$1,"<="&('Form 4562'!$B$3-U10+1),Schedule!$I$10:$AV$10)) | P10: =T10-O10-(K10-AF10) | R10: =IF(AND(ISNUMBER(B10),ISNUMBER(C10)),IF(C10>0,1,0),0) | S10: =IF(ISNUMBER(E10),MIN(1,MAX(0,E10)),1) | T10: =IF(R10=1,C10*S10,0) | U10: =IF(R10=1,YEAR(B10),0) | V10: =IF(OR(D10=27.5,D10=39),1,0) | W10: =IF(AND(AE10=1,S10<=0.5),1,0) | X10: =IF(F10="Car",1,0) | Y10: =IF(AND(R10=1,OR(V10=0,AND(D10=39,IF(ISNUMBER(G10),G10,0)>0)),W10=0,S10>0.5),1,0) | Z10: =IF(X10=1,IF(J10>0,Limits!$B$5,Limits!$B$6)*S10,0) | AA10: =IF(Y10=1,MIN(IF(ISNUMBER(G10),MAX(0,G10),0),T10,IF(F10="SUV",Limits!$B$4,T10),IF(X10=1,Z10,T10)),0) | AB10: =IF(AND(R10=1,V10=0),T10-K10,0) | AC10: =IF(R10=1,IF(MONTH(B10)>=10,1,0),0) | AD10: =IF(R10=0,"",IF(V10=1,D10&"-MM"&MONTH(B10),IF(W10=1,"ADS",D10&"")&"-"&IF(I10="MQ","MQ"&ROUNDUP(MONTH(B10)/3,0),"HY"))) | AE10: =IF(OR(F10="",F10="No"),0,1) | AF10: =K10*IF(U10='Form 4562'!$B$3,'Form 4562'!$B$16,1)
I11: =IF(R11=0,"",IF(V11=1,"MM",IF(IFERROR(SUMPRODUCT(($U$2:$U$201=U11)*$AB$2:$AB$201*$AC$2:$AC$201)/SUMPRODUCT(($U$2:$U$201=U11)*$AB$2:$AB$201),0)>0.4,"MQ","HY"))) | J11: =IF(OR(R11=0,V11=1,W11=1),0,IF(ISNUMBER(H11),H11,IF(H11="No",0,IFERROR(VLOOKUP(B11,Limits!$D$2:$E$9,2,1),0)))) | K11: =AA11*IF(U11='Form 4562'!$B$3,'Form 4562'!$B$15,1) | L11: =(T11-K11)*J11 | M11: =T11-K11-L11 | N11: =IF(R11=0,0,IF(AND(('Form 4562'!$B$3-U11+1)>=1,('Form 4562'!$B$3-U11+1)<=40),INDEX(Schedule!$I$11:$AV$11,1,('Form 4562'!$B$3-U11+1)),0)) | O11: =IF(R11=0,0,SUMIF(Schedule!$I$1:$AV$1,"<="&('Form 4562'!$B$3-U11+1),Schedule!$I$11:$AV$11)) | P11: =T11-O11-(K11-AF11) | R11: =IF(AND(ISNUMBER(B11),ISNUMBER(C11)),IF(C11>0,1,0),0) | S11: =IF(ISNUMBER(E11),MIN(1,MAX(0,E11)),1) | T11: =IF(R11=1,C11*S11,0) | U11: =IF(R11=1,YEAR(B11),0) | V11: =IF(OR(D11=27.5,D11=39),1,0) | W11: =IF(AND(AE11=1,S11<=0.5),1,0) | X11: =IF(F11="Car",1,0) | Y11: =IF(AND(R11=1,OR(V11=0,AND(D11=39,IF(ISNUMBER(G11),G11,0)>0)),W11=0,S11>0.5),1,0) | Z11: =IF(X11=1,IF(J11>0,Limits!$B$5,Limits!$B$6)*S11,0) | AA11: =IF(Y11=1,MIN(IF(ISNUMBER(G11),MAX(0,G11),0),T11,IF(F11="SUV",Limits!$B$4,T11),IF(X11=1,Z11,T11)),0) | AB11: =IF(AND(R11=1,V11=0),T11-K11,0) | AC11: =IF(R11=1,IF(MONTH(B11)>=10,1,0),0) | AD11: =IF(R11=0,"",IF(V11=1,D11&"-MM"&MONTH(B11),IF(W11=1,"ADS",D11&"")&"-"&IF(I11="MQ","MQ"&ROUNDUP(MONTH(B11)/3,0),"HY"))) | AE11: =IF(OR(F11="",F11="No"),0,1) | AF11: =K11*IF(U11='Form 4562'!$B$3,'Form 4562'!$B$16,1)
I12: =IF(R12=0,"",IF(V12=1,"MM",IF(IFERROR(SUMPRODUCT(($U$2:$U$201=U12)*$AB$2:$AB$201*$AC$2:$AC$201)/SUMPRODUCT(($U$2:$U$201=U12)*$AB$2:$AB$201),0)>0.4,"MQ","HY"))) | J12: =IF(OR(R12=0,V12=1,W12=1),0,IF(ISNUMBER(H12),H12,IF(H12="No",0,IFERROR(VLOOKUP(B12,Limits!$D$2:$E$9,2,1),0)))) | K12: =AA12*IF(U12='Form 4562'!$B$3,'Form 4562'!$B$15,1) | L12: =(T12-K12)*J12 | M12: =T12-K12-L12 | N12: =IF(R12=0,0,IF(AND(('Form 4562'!$B$3-U12+1)>=1,('Form 4562'!$B$3-U12+1)<=40),INDEX(Schedule!$I$12:$AV$12,1,('Form 4562'!$B$3-U12+1)),0)) | O12: =IF(R12=0,0,SUMIF(Schedule!$I$1:$AV$1,"<="&('Form 4562'!$B$3-U12+1),Schedule!$I$12:$AV$12)) | P12: =T12-O12-(K12-AF12) | R12: =IF(AND(ISNUMBER(B12),ISNUMBER(C12)),IF(C12>0,1,0),0) | S12: =IF(ISNUMBER(E12),MIN(1,MAX(0,E12)),1) | T12: =IF(R12=1,C12*S12,0) | U12: =IF(R12=1,YEAR(B12),0) | V12: =IF(OR(D12=27.5,D12=39),1,0) | W12: =IF(AND(AE12=1,S12<=0.5),1,0) | X12: =IF(F12="Car",1,0) | Y12: =IF(AND(R12=1,OR(V12=0,AND(D12=39,IF(ISNUMBER(G12),G12,0)>0)),W12=0,S12>0.5),1,0) | Z12: =IF(X12=1,IF(J12>0,Limits!$B$5,Limits!$B$6)*S12,0) | AA12: =IF(Y12=1,MIN(IF(ISNUMBER(G12),MAX(0,G12),0),T12,IF(F12="SUV",Limits!$B$4,T12),IF(X12=1,Z12,T12)),0) | AB12: =IF(AND(R12=1,V12=0),T12-K12,0) | AC12: =IF(R12=1,IF(MONTH(B12)>=10,1,0),0) | AD12: =IF(R12=0,"",IF(V12=1,D12&"-MM"&MONTH(B12),IF(W12=1,"ADS",D12&"")&"-"&IF(I12="MQ","MQ"&ROUNDUP(MONTH(B12)/3,0),"HY"))) | AE12: =IF(OR(F12="",F12="No"),0,1) | AF12: =K12*IF(U12='Form 4562'!$B$3,'Form 4562'!$B$16,1)
I13: =IF(R13=0,"",IF(V13=1,"MM",IF(IFERROR(SUMPRODUCT(($U$2:$U$201=U13)*$AB$2:$AB$201*$AC$2:$AC$201)/SUMPRODUCT(($U$2:$U$201=U13)*$AB$2:$AB$201),0)>0.4,"MQ","HY"))) | J13: =IF(OR(R13=0,V13=1,W13=1),0,IF(ISNUMBER(H13),H13,IF(H13="No",0,IFERROR(VLOOKUP(B13,Limits!$D$2:$E$9,2,1),0)))) | K13: =AA13*IF(U13='Form 4562'!$B$3,'Form 4562'!$B$15,1) | L13: =(T13-K13)*J13 | M13: =T13-K13-L13 | N13: =IF(R13=0,0,IF(AND(('Form 4562'!$B$3-U13+1)>=1,('Form 4562'!$B$3-U13+1)<=40),INDEX(Schedule!$I$13:$AV$13,1,('Form 4562'!$B$3-U13+1)),0)) | O13: =IF(R13=0,0,SUMIF(Schedule!$I$1:$AV$1,"<="&('Form 4562'!$B$3-U13+1),Schedule!$I$13:$AV$13)) | P13: =T13-O13-(K13-AF13) | R13: =IF(AND(ISNUMBER(B13),ISNUMBER(C13)),IF(C13>0,1,0),0) | S13: =IF(ISNUMBER(E13),MIN(1,MAX(0,E13)),1) | T13: =IF(R13=1,C13*S13,0) | U13: =IF(R13=1,YEAR(B13),0) | V13: =IF(OR(D13=27.5,D13=39),1,0) | W13: =IF(AND(AE13=1,S13<=0.5),1,0) | X13: =IF(F13="Car",1,0) | Y13: =IF(AND(R13=1,OR(V13=0,AND(D13=39,IF(ISNUMBER(G13),G13,0)>0)),W13=0,S13>0.5),1,0) | Z13: =IF(X13=1,IF(J13>0,Limits!$B$5,Limits!$B$6)*S13,0) | AA13: =IF(Y13=1,MIN(IF(ISNUMBER(G13),MAX(0,G13),0),T13,IF(F13="SUV",Limits!$B$4,T13),IF(X13=1,Z13,T13)),0) | AB13: =IF(AND(R13=1,V13=0),T13-K13,0) | AC13: =IF(R13=1,IF(MONTH(B13)>=10,1,0),0) | AD13: =IF(R13=0,"",IF(V13=1,D13&"-MM"&MONTH(B13),IF(W13=1,"ADS",D13&"")&"-"&IF(I13="MQ","MQ"&ROUNDUP(MONTH(B13)/3,0),"HY"))) | AE13: =IF(OR(F13="",F13="No"),0,1) | AF13: =K13*IF(U13='Form 4562'!$B$3,'Form 4562'!$B$16,1)
I14: =IF(R14=0,"",IF(V14=1,"MM",IF(IFERROR(SUMPRODUCT(($U$2:$U$201=U14)*$AB$2:$AB$201*$AC$2:$AC$201)/SUMPRODUCT(($U$2:$U$201=U14)*$AB$2:$AB$201),0)>0.4,"MQ","HY"))) | J14: =IF(OR(R14=0,V14=1,W14=1),0,IF(ISNUMBER(H14),H14,IF(H14="No",0,IFERROR(VLOOKUP(B14,Limits!$D$2:$E$9,2,1),0)))) | K14: =AA14*IF(U14='Form 4562'!$B$3,'Form 4562'!$B$15,1) | L14: =(T14-K14)*J14 | M14: =T14-K14-L14 | N14: =IF(R14=0,0,IF(AND(('Form 4562'!$B$3-U14+1)>=1,('Form 4562'!$B$3-U14+1)<=40),INDEX(Schedule!$I$14:$AV$14,1,('Form 4562'!$B$3-U14+1)),0)) | O14: =IF(R14=0,0,SUMIF(Schedule!$I$1:$AV$1,"<="&('Form 4562'!$B$3-U14+1),Schedule!$I$14:$AV$14)) | P14: =T14-O14-(K14-AF14) | R14: =IF(AND(ISNUMBER(B14),ISNUMBER(C14)),IF(C14>0,1,0),0) | S14: =IF(ISNUMBER(E14),MIN(1,MAX(0,E14)),1) | T14: =IF(R14=1,C14*S14,0) | U14: =IF(R14=1,YEAR(B14),0) | V14: =IF(OR(D14=27.5,D14=39),1,0) | W14: =IF(AND(AE14=1,S14<=0.5),1,0) | X14: =IF(F14="Car",1,0) | Y14: =IF(AND(R14=1,OR(V14=0,AND(D14=39,IF(ISNUMBER(G14),G14,0)>0)),W14=0,S14>0.5),1,0) | Z14: =IF(X14=1,IF(J14>0,Limits!$B$5,Limits!$B$6)*S14,0) | AA14: =IF(Y14=1,MIN(IF(ISNUMBER(G14),MAX(0,G14),0),T14,IF(F14="SUV",Limits!$B$4,T14),IF(X14=1,Z14,T14)),0) | AB14: =IF(AND(R14=1,V14=0),T14-K14,0) | AC14: =IF(R14=1,IF(MONTH(B14)>=10,1,0),0) | AD14: =IF(R14=0,"",IF(V14=1,D14&"-MM"&MONTH(B14),IF(W14=1,"ADS",D14&"")&"-"&IF(I14="MQ","MQ"&ROUNDUP(MONTH(B14)/3,0),"HY"))) | AE14: =IF(OR(F14="",F14="No"),0,1) | AF14: =K14*IF(U14='Form 4562'!$B$3,'Form 4562'!$B$16,1)
I15: =IF(R15=0,"",IF(V15=1,"MM",IF(IFERROR(SUMPRODUCT(($U$2:$U$201=U15)*$AB$2:$AB$201*$AC$2:$AC$201)/SUMPRODUCT(($U$2:$U$201=U15)*$AB$2:$AB$201),0)>0.4,"MQ","HY"))) | J15: =IF(OR(R15=0,V15=1,W15=1),0,IF(ISNUMBER(H15),H15,IF(H15="No",0,IFERROR(VLOOKUP(B15,Limits!$D$2:$E$9,2,1),0)))) | K15: =AA15*IF(U15='Form 4562'!$B$3,'Form 4562'!$B$15,1) | L15: =(T15-K15)*J15 | M15: =T15-K15-L15 | N15: =IF(R15=0,0,IF(AND(('Form 4562'!$B$3-U15+1)>=1,('Form 4562'!$B$3-U15+1)<=40),INDEX(Schedule!$I$15:$AV$15,1,('Form 4562'!$B$3-U15+1)),0)) | O15: =IF(R15=0,0,SUMIF(Schedule!$I$1:$AV$1,"<="&('Form 4562'!$B$3-U15+1),Schedule!$I$15:$AV$15)) | P15: =T15-O15-(K15-AF15) | R15: =IF(AND(ISNUMBER(B15),ISNUMBER(C15)),IF(C15>0,1,0),0) | S15: =IF(ISNUMBER(E15),MIN(1,MAX(0,E15)),1) | T15: =IF(R15=1,C15*S15,0) | U15: =IF(R15=1,YEAR(B15),0) | V15: =IF(OR(D15=27.5,D15=39),1,0) | W15: =IF(AND(AE15=1,S15<=0.5),1,0) | X15: =IF(F15="Car",1,0) | Y15: =IF(AND(R15=1,OR(V15=0,AND(D15=39,IF(ISNUMBER(G15),G15,0)>0)),W15=0,S15>0.5),1,0) | Z15: =IF(X15=1,IF(J15>0,Limits!$B$5,Limits!$B$6)*S15,0) | AA15: =IF(Y15=1,MIN(IF(ISNUMBER(G15),MAX(0,G15),0),T15,IF(F15="SUV",Limits!$B$4,T15),IF(X15=1,Z15,T15)),0) | AB15: =IF(AND(R15=1,V15=0),T15-K15,0) | AC15: =IF(R15=1,IF(MONTH(B15)>=10,1,0),0) | AD15: =IF(R15=0,"",IF(V15=1,D15&"-MM"&MONTH(B15),IF(W15=1,"ADS",D15&"")&"-"&IF(I15="MQ","MQ"&ROUNDUP(MONTH(B15)/3,0),"HY"))) | AE15: =IF(OR(F15="",F15="No"),0,1) | AF15: =K15*IF(U15='Form 4562'!$B$3,'Form 4562'!$B$16,1)
I16: =IF(R16=0,"",IF(V16=1,"MM",IF(IFERROR(SUMPRODUCT(($U$2:$U$201=U16)*$AB$2:$AB$201*$AC$2:$AC$201)/SUMPRODUCT(($U$2:$U$201=U16)*$AB$2:$AB$201),0)>0.4,"MQ","HY"))) | J16: =IF(OR(R16=0,V16=1,W16=1),0,IF(ISNUMBER(H16),H16,IF(H16="No",0,IFERROR(VLOOKUP(B16,Limits!$D$2:$E$9,2,1),0)))) | K16: =AA16*IF(U16='Form 4562'!$B$3,'Form 4562'!$B$15,1) | L16: =(T16-K16)*J16 | M16: =T16-K16-L16 | N16: =IF(R16=0,0,IF(AND(('Form 4562'!$B$3-U16+1)>=1,('Form 4562'!$B$3-U16+1)<=40),INDEX(Schedule!$I$16:$AV$16,1,('Form 4562'!$B$3-U16+1)),0)) | O16: =IF(R16=0,0,SUMIF(Schedule!$I$1:$AV$1,"<="&('Form 4562'!$B$3-U16+1),Schedule!$I$16:$AV$16)) | P16: =T16-O16-(K16-AF16) | R16: =IF(AND(ISNUMBER(B16),ISNUMBER(C16)),IF(C16>0,1,0),0) | S16: =IF(ISNUMBER(E16),MIN(1,MAX(0,E16)),1) | T16: =IF(R16=1,C16*S16,0) | U16: =IF(R16=1,YEAR(B16),0) | V16: =IF(OR(D16=27.5,D16=39),1,0) | W16: =IF(AND(AE16=1,S16<=0.5),1,0) | X16: =IF(F16="Car",1,0) | Y16: =IF(AND(R16=1,OR(V16=0,AND(D16=39,IF(ISNUMBER(G16),G16,0)>0)),W16=0,S16>0.5),1,0) | Z16: =IF(X16=1,IF(J16>0,Limits!$B$5,Limits!$B$6)*S16,0) | AA16: =IF(Y16=1,MIN(IF(ISNUMBER(G16),MAX(0,G16),0),T16,IF(F16="SUV",Limits!$B$4,T16),IF(X16=1,Z16,T16)),0) | AB16: =IF(AND(R16=1,V16=0),T16-K16,0) | AC16: =IF(R16=1,IF(MONTH(B16)>=10,1,0),0) | AD16: =IF(R16=0,"",IF(V16=1,D16&"-MM"&MONTH(B16),IF(W16=1,"ADS",D16&"")&"-"&IF(I16="MQ","MQ"&ROUNDUP(MONTH(B16)/3,0),"HY"))) | AE16: =IF(OR(F16="",F16="No"),0,1) | AF16: =K16*IF(U16='Form 4562'!$B$3,'Form 4562'!$B$16,1)
I17: =IF(R17=0,"",IF(V17=1,"MM",IF(IFERROR(SUMPRODUCT(($U$2:$U$201=U17)*$AB$2:$AB$201*$AC$2:$AC$201)/SUMPRODUCT(($U$2:$U$201=U17)*$AB$2:$AB$201),0)>0.4,"MQ","HY"))) | J17: =IF(OR(R17=0,V17=1,W17=1),0,IF(ISNUMBER(H17),H17,IF(H17="No",0,IFERROR(VLOOKUP(B17,Limits!$D$2:$E$9,2,1),0)))) | K17: =AA17*IF(U17='Form 4562'!$B$3,'Form 4562'!$B$15,1) | L17: =(T17-K17)*J17 | M17: =T17-K17-L17 | N17: =IF(R17=0,0,IF(AND(('Form 4562'!$B$3-U17+1)>=1,('Form 4562'!$B$3-U17+1)<=40),INDEX(Schedule!$I$17:$AV$17,1,('Form 4562'!$B$3-U17+1)),0)) | O17: =IF(R17=0,0,SUMIF(Schedule!$I$1:$AV$1,"<="&('Form 4562'!$B$3-U17+1),Schedule!$I$17:$AV$17)) | P17: =T17-O17-(K17-AF17) | R17: =IF(AND(ISNUMBER(B17),ISNUMBER(C17)),IF(C17>0,1,0),0) | S17: =IF(ISNUMBER(E17),MIN(1,MAX(0,E17)),1) | T17: =IF(R17=1,C17*S17,0) | U17: =IF(R17=1,YEAR(B17),0) | V17: =IF(OR(D17=27.5,D17=39),1,0) | W17: =IF(AND(AE17=1,S17<=0.5),1,0) | X17: =IF(F17="Car",1,0) | Y17: =IF(AND(R17=1,OR(V17=0,AND(D17=39,IF(ISNUMBER(G17),G17,0)>0)),W17=0,S17>0.5),1,0) | Z17: =IF(X17=1,IF(J17>0,Limits!$B$5,Limits!$B$6)*S17,0) | AA17: =IF(Y17=1,MIN(IF(ISNUMBER(G17),MAX(0,G17),0),T17,IF(F17="SUV",Limits!$B$4,T17),IF(X17=1,Z17,T17)),0) | AB17: =IF(AND(R17=1,V17=0),T17-K17,0) | AC17: =IF(R17=1,IF(MONTH(B17)>=10,1,0),0) | AD17: =IF(R17=0,"",IF(V17=1,D17&"-MM"&MONTH(B17),IF(W17=1,"ADS",D17&"")&"-"&IF(I17="MQ","MQ"&ROUNDUP(MONTH(B17)/3,0),"HY"))) | AE17: =IF(OR(F17="",F17="No"),0,1) | AF17: =K17*IF(U17='Form 4562'!$B$3,'Form 4562'!$B$16,1)
I18: =IF(R18=0,"",IF(V18=1,"MM",IF(IFERROR(SUMPRODUCT(($U$2:$U$201=U18)*$AB$2:$AB$201*$AC$2:$AC$201)/SUMPRODUCT(($U$2:$U$201=U18)*$AB$2:$AB$201),0)>0.4,"MQ","HY"))) | J18: =IF(OR(R18=0,V18=1,W18=1),0,IF(ISNUMBER(H18),H18,IF(H18="No",0,IFERROR(VLOOKUP(B18,Limits!$D$2:$E$9,2,1),0)))) | K18: =AA18*IF(U18='Form 4562'!$B$3,'Form 4562'!$B$15,1) | L18: =(T18-K18)*J18 | M18: =T18-K18-L18 | N18: =IF(R18=0,0,IF(AND(('Form 4562'!$B$3-U18+1)>=1,('Form 4562'!$B$3-U18+1)<=40),INDEX(Schedule!$I$18:$AV$18,1,('Form 4562'!$B$3-U18+1)),0)) | O18: =IF(R18=0,0,SUMIF(Schedule!$I$1:$AV$1,"<="&('Form 4562'!$B$3-U18+1),Schedule!$I$18:$AV$18)) | P18: =T18-O18-(K18-AF18) | R18: =IF(AND(ISNUMBER(B18),ISNUMBER(C18)),IF(C18>0,1,0),0) | S18: =IF(ISNUMBER(E18),MIN(1,MAX(0,E18)),1) | T18: =IF(R18=1,C18*S18,0) | U18: =IF(R18=1,YEAR(B18),0) | V18: =IF(OR(D18=27.5,D18=39),1,0) | W18: =IF(AND(AE18=1,S18<=0.5),1,0) | X18: =IF(F18="Car",1,0) | Y18: =IF(AND(R18=1,OR(V18=0,AND(D18=39,IF(ISNUMBER(G18),G18,0)>0)),W18=0,S18>0.5),1,0) | Z18: =IF(X18=1,IF(J18>0,Limits!$B$5,Limits!$B$6)*S18,0) | AA18: =IF(Y18=1,MIN(IF(ISNUMBER(G18),MAX(0,G18),0),T18,IF(F18="SUV",Limits!$B$4,T18),IF(X18=1,Z18,T18)),0) | AB18: =IF(AND(R18=1,V18=0),T18-K18,0) | AC18: =IF(R18=1,IF(MONTH(B18)>=10,1,0),0) | AD18: =IF(R18=0,"",IF(V18=1,D18&"-MM"&MONTH(B18),IF(W18=1,"ADS",D18&"")&"-"&IF(I18="MQ","MQ"&ROUNDUP(MONTH(B18)/3,0),"HY"))) | AE18: =IF(OR(F18="",F18="No"),0,1) | AF18: =K18*IF(U18='Form 4562'!$B$3,'Form 4562'!$B$16,1)
I19: =IF(R19=0,"",IF(V19=1,"MM",IF(IFERROR(SUMPRODUCT(($U$2:$U$201=U19)*$AB$2:$AB$201*$AC$2:$AC$201)/SUMPRODUCT(($U$2:$U$201=U19)*$AB$2:$AB$201),0)>0.4,"MQ","HY"))) | J19: =IF(OR(R19=0,V19=1,W19=1),0,IF(ISNUMBER(H19),H19,IF(H19="No",0,IFERROR(VLOOKUP(B19,Limits!$D$2:$E$9,2,1),0)))) | K19: =AA19*IF(U19='Form 4562'!$B$3,'Form 4562'!$B$15,1) | L19: =(T19-K19)*J19 | M19: =T19-K19-L19 | N19: =IF(R19=0,0,IF(AND(('Form 4562'!$B$3-U19+1)>=1,('Form 4562'!$B$3-U19+1)<=40),INDEX(Schedule!$I$19:$AV$19,1,('Form 4562'!$B$3-U19+1)),0)) | O19: =IF(R19=0,0,SUMIF(Schedule!$I$1:$AV$1,"<="&('Form 4562'!$B$3-U19+1),Schedule!$I$19:$AV$19)) | P19: =T19-O19-(K19-AF19) | R19: =IF(AND(ISNUMBER(B19),ISNUMBER(C19)),IF(C19>0,1,0),0) | S19: =IF(ISNUMBER(E19),MIN(1,MAX(0,E19)),1) | T19: =IF(R19=1,C19*S19,0) | U19: =IF(R19=1,YEAR(B19),0) | V19: =IF(OR(D19=27.5,D19=39),1,0) | W19: =IF(AND(AE19=1,S19<=0.5),1,0) | X19: =IF(F19="Car",1,0) | Y19: =IF(AND(R19=1,OR(V19=0,AND(D19=39,IF(ISNUMBER(G19),G19,0)>0)),W19=0,S19>0.5),1,0) | Z19: =IF(X19=1,IF(J19>0,Limits!$B$5,Limits!$B$6)*S19,0) | AA19: =IF(Y19=1,MIN(IF(ISNUMBER(G19),MAX(0,G19),0),T19,IF(F19="SUV",Limits!$B$4,T19),IF(X19=1,Z19,T19)),0) | AB19: =IF(AND(R19=1,V19=0),T19-K19,0) | AC19: =IF(R19=1,IF(MONTH(B19)>=10,1,0),0) | AD19: =IF(R19=0,"",IF(V19=1,D19&"-MM"&MONTH(B19),IF(W19=1,"ADS",D19&"")&"-"&IF(I19="MQ","MQ"&ROUNDUP(MONTH(B19)/3,0),"HY"))) | AE19: =IF(OR(F19="",F19="No"),0,1) | AF19: =K19*IF(U19='Form 4562'!$B$3,'Form 4562'!$B$16,1)
I20: =IF(R20=0,"",IF(V20=1,"MM",IF(IFERROR(SUMPRODUCT(($U$2:$U$201=U20)*$AB$2:$AB$201*$AC$2:$AC$201)/SUMPRODUCT(($U$2:$U$201=U20)*$AB$2:$AB$201),0)>0.4,"MQ","HY"))) | J20: =IF(OR(R20=0,V20=1,W20=1),0,IF(ISNUMBER(H20),H20,IF(H20="No",0,IFERROR(VLOOKUP(B20,Limits!$D$2:$E$9,2,1),0)))) | K20: =AA20*IF(U20='Form 4562'!$B$3,'Form 4562'!$B$15,1) | L20: =(T20-K20)*J20 | M20: =T20-K20-L20 | N20: =IF(R20=0,0,IF(AND(('Form 4562'!$B$3-U20+1)>=1,('Form 4562'!$B$3-U20+1)<=40),INDEX(Schedule!$I$20:$AV$20,1,('Form 4562'!$B$3-U20+1)),0)) | O20: =IF(R20=0,0,SUMIF(Schedule!$I$1:$AV$1,"<="&('Form 4562'!$B$3-U20+1),Schedule!$I$20:$AV$20)) | P20: =T20-O20-(K20-AF20) | R20: =IF(AND(ISNUMBER(B20),ISNUMBER(C20)),IF(C20>0,1,0),0) | S20: =IF(ISNUMBER(E20),MIN(1,MAX(0,E20)),1) | T20: =IF(R20=1,C20*S20,0) | U20: =IF(R20=1,YEAR(B20),0) | V20: =IF(OR(D20=27.5,D20=39),1,0) | W20: =IF(AND(AE20=1,S20<=0.5),1,0) | X20: =IF(F20="Car",1,0) | Y20: =IF(AND(R20=1,OR(V20=0,AND(D20=39,IF(ISNUMBER(G20),G20,0)>0)),W20=0,S20>0.5),1,0) | Z20: =IF(X20=1,IF(J20>0,Limits!$B$5,Limits!$B$6)*S20,0) | AA20: =IF(Y20=1,MIN(IF(ISNUMBER(G20),MAX(0,G20),0),T20,IF(F20="SUV",Limits!$B$4,T20),IF(X20=1,Z20,T20)),0) | AB20: =IF(AND(R20=1,V20=0),T20-K20,0) | AC20: =IF(R20=1,IF(MONTH(B20)>=10,1,0),0) | AD20: =IF(R20=0,"",IF(V20=1,D20&"-MM"&MONTH(B20),IF(W20=1,"ADS",D20&"")&"-"&IF(I20="MQ","MQ"&ROUNDUP(MONTH(B20)/3,0),"HY"))) | AE20: =IF(OR(F20="",F20="No"),0,1) | AF20: =K20*IF(U20='Form 4562'!$B$3,'Form 4562'!$B$16,1)
I21: =IF(R21=0,"",IF(V21=1,"MM",IF(IFERROR(SUMPRODUCT(($U$2:$U$201=U21)*$AB$2:$AB$201*$AC$2:$AC$201)/SUMPRODUCT(($U$2:$U$201=U21)*$AB$2:$AB$201),0)>0.4,"MQ","HY"))) | J21: =IF(OR(R21=0,V21=1,W21=1),0,IF(ISNUMBER(H21),H21,IF(H21="No",0,IFERROR(VLOOKUP(B21,Limits!$D$2:$E$9,2,1),0)))) | K21: =AA21*IF(U21='Form 4562'!$B$3,'Form 4562'!$B$15,1) | L21: =(T21-K21)*J21 | M21: =T21-K21-L21 | N21: =IF(R21=0,0,IF(AND(('Form 4562'!$B$3-U21+1)>=1,('Form 4562'!$B$3-U21+1)<=40),INDEX(Schedule!$I$21:$AV$21,1,('Form 4562'!$B$3-U21+1)),0)) | O21: =IF(R21=0,0,SUMIF(Schedule!$I$1:$AV$1,"<="&('Form 4562'!$B$3-U21+1),Schedule!$I$21:$AV$21)) | P21: =T21-O21-(K21-AF21) | R21: =IF(AND(ISNUMBER(B21),ISNUMBER(C21)),IF(C21>0,1,0),0) | S21: =IF(ISNUMBER(E21),MIN(1,MAX(0,E21)),1) | T21: =IF(R21=1,C21*S21,0) | U21: =IF(R21=1,YEAR(B21),0) | V21: =IF(OR(D21=27.5,D21=39),1,0) | W21: =IF(AND(AE21=1,S21<=0.5),1,0) | X21: =IF(F21="Car",1,0) | Y21: =IF(AND(R21=1,OR(V21=0,AND(D21=39,IF(ISNUMBER(G21),G21,0)>0)),W21=0,S21>0.5),1,0) | Z21: =IF(X21=1,IF(J21>0,Limits!$B$5,Limits!$B$6)*S21,0) | AA21: =IF(Y21=1,MIN(IF(ISNUMBER(G21),MAX(0,G21),0),T21,IF(F21="SUV",Limits!$B$4,T21),IF(X21=1,Z21,T21)),0) | AB21: =IF(AND(R21=1,V21=0),T21-K21,0) | AC21: =IF(R21=1,IF(MONTH(B21)>=10,1,0),0) | AD21: =IF(R21=0,"",IF(V21=1,D21&"-MM"&MONTH(B21),IF(W21=1,"ADS",D21&"")&"-"&IF(I21="MQ","MQ"&ROUNDUP(MONTH(B21)/3,0),"HY"))) | AE21: =IF(OR(F21="",F21="No"),0,1) | AF21: =K21*IF(U21='Form 4562'!$B$3,'Form 4562'!$B$16,1)
I22: =IF(R22=0,"",IF(V22=1,"MM",IF(IFERROR(SUMPRODUCT(($U$2:$U$201=U22)*$AB$2:$AB$201*$AC$2:$AC$201)/SUMPRODUCT(($U$2:$U$201=U22)*$AB$2:$AB$201),0)>0.4,"MQ","HY"))) | J22: =IF(OR(R22=0,V22=1,W22=1),0,IF(ISNUMBER(H22),H22,IF(H22="No",0,IFERROR(VLOOKUP(B22,Limits!$D$2:$E$9,2,1),0)))) | K22: =AA22*IF(U22='Form 4562'!$B$3,'Form 4562'!$B$15,1) | L22: =(T22-K22)*J22 | M22: =T22-K22-L22 | N22: =IF(R22=0,0,IF(AND(('Form 4562'!$B$3-U22+1)>=1,('Form 4562'!$B$3-U22+1)<=40),INDEX(Schedule!$I$22:$AV$22,1,('Form 4562'!$B$3-U22+1)),0)) | O22: =IF(R22=0,0,SUMIF(Schedule!$I$1:$AV$1,"<="&('Form 4562'!$B$3-U22+1),Schedule!$I$22:$AV$22)) | P22: =T22-O22-(K22-AF22) | R22: =IF(AND(ISNUMBER(B22),ISNUMBER(C22)),IF(C22>0,1,0),0) | S22: =IF(ISNUMBER(E22),MIN(1,MAX(0,E22)),1) | T22: =IF(R22=1,C22*S22,0) | U22: =IF(R22=1,YEAR(B22),0) | V22: =IF(OR(D22=27.5,D22=39),1,0) | W22: =IF(AND(AE22=1,S22<=0.5),1,0) | X22: =IF(F22="Car",1,0) | Y22: =IF(AND(R22=1,OR(V22=0,AND(D22=39,IF(ISNUMBER(G22),G22,0)>0)),W22=0,S22>0.5),1,0) | Z22: =IF(X22=1,IF(J22>0,Limits!$B$5,Limits!$B$6)*S22,0) | AA22: =IF(Y22=1,MIN(IF(ISNUMBER(G22),MAX(0,G22),0),T22,IF(F22="SUV",Limits!$B$4,T22),IF(X22=1,Z22,T22)),0) | AB22: =IF(AND(R22=1,V22=0),T22-K22,0) | AC22: =IF(R22=1,IF(MONTH(B22)>=10,1,0),0) | AD22: =IF(R22=0,"",IF(V22=1,D22&"-MM"&MONTH(B22),IF(W22=1,"ADS",D22&"")&"-"&IF(I22="MQ","MQ"&ROUNDUP(MONTH(B22)/3,0),"HY"))) | AE22: =IF(OR(F22="",F22="No"),0,1) | AF22: =K22*IF(U22='Form 4562'!$B$3,'Form 4562'!$B$16,1)
I23: =IF(R23=0,"",IF(V23=1,"MM",IF(IFERROR(SUMPRODUCT(($U$2:$U$201=U23)*$AB$2:$AB$201*$AC$2:$AC$201)/SUMPRODUCT(($U$2:$U$201=U23)*$AB$2:$AB$201),0)>0.4,"MQ","HY"))) | J23: =IF(OR(R23=0,V23=1,W23=1),0,IF(ISNUMBER(H23),H23,IF(H23="No",0,IFERROR(VLOOKUP(B23,Limits!$D$2:$E$9,2,1),0)))) | K23: =AA23*IF(U23='Form 4562'!$B$3,'Form 4562'!$B$15,1) | L23: =(T23-K23)*J23 | M23: =T23-K23-L23 | N23: =IF(R23=0,0,IF(AND(('Form 4562'!$B$3-U23+1)>=1,('Form 4562'!$B$3-U23+1)<=40),INDEX(Schedule!$I$23:$AV$23,1,('Form 4562'!$B$3-U23+1)),0)) | O23: =IF(R23=0,0,SUMIF(Schedule!$I$1:$AV$1,"<="&('Form 4562'!$B$3-U23+1),Schedule!$I$23:$AV$23)) | P23: =T23-O23-(K23-AF23) | R23: =IF(AND(ISNUMBER(B23),ISNUMBER(C23)),IF(C23>0,1,0),0) | S23: =IF(ISNUMBER(E23),MIN(1,MAX(0,E23)),1) | T23: =IF(R23=1,C23*S23,0) | U23: =IF(R23=1,YEAR(B23),0) | V23: =IF(OR(D23=27.5,D23=39),1,0) | W23: =IF(AND(AE23=1,S23<=0.5),1,0) | X23: =IF(F23="Car",1,0) | Y23: =IF(AND(R23=1,OR(V23=0,AND(D23=39,IF(ISNUMBER(G23),G23,0)>0)),W23=0,S23>0.5),1,0) | Z23: =IF(X23=1,IF(J23>0,Limits!$B$5,Limits!$B$6)*S23,0) | AA23: =IF(Y23=1,MIN(IF(ISNUMBER(G23),MAX(0,G23),0),T23,IF(F23="SUV",Limits!$B$4,T23),IF(X23=1,Z23,T23)),0) | AB23: =IF(AND(R23=1,V23=0),T23-K23,0) | AC23: =IF(R23=1,IF(MONTH(B23)>=10,1,0),0) | AD23: =IF(R23=0,"",IF(V23=1,D23&"-MM"&MONTH(B23),IF(W23=1,"ADS",D23&"")&"-"&IF(I23="MQ","MQ"&ROUNDUP(MONTH(B23)/3,0),"HY"))) | AE23: =IF(OR(F23="",F23="No"),0,1) | AF23: =K23*IF(U23='Form 4562'!$B$3,'Form 4562'!$B$16,1)
I24: =IF(R24=0,"",IF(V24=1,"MM",IF(IFERROR(SUMPRODUCT(($U$2:$U$201=U24)*$AB$2:$AB$201*$AC$2:$AC$201)/SUMPRODUCT(($U$2:$U$201=U24)*$AB$2:$AB$201),0)>0.4,"MQ","HY"))) | J24: =IF(OR(R24=0,V24=1,W24=1),0,IF(ISNUMBER(H24),H24,IF(H24="No",0,IFERROR(VLOOKUP(B24,Limits!$D$2:$E$9,2,1),0)))) | K24: =AA24*IF(U24='Form 4562'!$B$3,'Form 4562'!$B$15,1) | L24: =(T24-K24)*J24 | M24: =T24-K24-L24 | N24: =IF(R24=0,0,IF(AND(('Form 4562'!$B$3-U24+1)>=1,('Form 4562'!$B$3-U24+1)<=40),INDEX(Schedule!$I$24:$AV$24,1,('Form 4562'!$B$3-U24+1)),0)) | O24: =IF(R24=0,0,SUMIF(Schedule!$I$1:$AV$1,"<="&('Form 4562'!$B$3-U24+1),Schedule!$I$24:$AV$24)) | P24: =T24-O24-(K24-AF24) | R24: =IF(AND(ISNUMBER(B24),ISNUMBER(C24)),IF(C24>0,1,0),0) | S24: =IF(ISNUMBER(E24),MIN(1,MAX(0,E24)),1) | T24: =IF(R24=1,C24*S24,0) | U24: =IF(R24=1,YEAR(B24),0) | V24: =IF(OR(D24=27.5,D24=39),1,0) | W24: =IF(AND(AE24=1,S24<=0.5),1,0) | X24: =IF(F24="Car",1,0) | Y24: =IF(AND(R24=1,OR(V24=0,AND(D24=39,IF(ISNUMBER(G24),G24,0)>0)),W24=0,S24>0.5),1,0) | Z24: =IF(X24=1,IF(J24>0,Limits!$B$5,Limits!$B$6)*S24,0) | AA24: =IF(Y24=1,MIN(IF(ISNUMBER(G24),MAX(0,G24),0),T24,IF(F24="SUV",Limits!$B$4,T24),IF(X24=1,Z24,T24)),0) | AB24: =IF(AND(R24=1,V24=0),T24-K24,0) | AC24: =IF(R24=1,IF(MONTH(B24)>=10,1,0),0) | AD24: =IF(R24=0,"",IF(V24=1,D24&"-MM"&MONTH(B24),IF(W24=1,"ADS",D24&"")&"-"&IF(I24="MQ","MQ"&ROUNDUP(MONTH(B24)/3,0),"HY"))) | AE24: =IF(OR(F24="",F24="No"),0,1) | AF24: =K24*IF(U24='Form 4562'!$B$3,'Form 4562'!$B$16,1)
I25: =IF(R25=0,"",IF(V25=1,"MM",IF(IFERROR(SUMPRODUCT(($U$2:$U$201=U25)*$AB$2:$AB$201*$AC$2:$AC$201)/SUMPRODUCT(($U$2:$U$201=U25)*$AB$2:$AB$201),0)>0.4,"MQ","HY"))) | J25: =IF(OR(R25=0,V25=1,W25=1),0,IF(ISNUMBER(H25),H25,IF(H25="No",0,IFERROR(VLOOKUP(B25,Limits!$D$2:$E$9,2,1),0)))) | K25: =AA25*IF(U25='Form 4562'!$B$3,'Form 4562'!$B$15,1) | L25: =(T25-K25)*J25 | M25: =T25-K25-L25 | N25: =IF(R25=0,0,IF(AND(('Form 4562'!$B$3-U25+1)>=1,('Form 4562'!$B$3-U25+1)<=40),INDEX(Schedule!$I$25:$AV$25,1,('Form 4562'!$B$3-U25+1)),0)) | O25: =IF(R25=0,0,SUMIF(Schedule!$I$1:$AV$1,"<="&('Form 4562'!$B$3-U25+1),Schedule!$I$25:$AV$25)) | P25: =T25-O25-(K25-AF25) | R25: =IF(AND(ISNUMBER(B25),ISNUMBER(C25)),IF(C25>0,1,0),0) | S25: =IF(ISNUMBER(E25),MIN(1,MAX(0,E25)),1) | T25: =IF(R25=1,C25*S25,0) | U25: =IF(R25=1,YEAR(B25),0) | V25: =IF(OR(D25=27.5,D25=39),1,0) | W25: =IF(AND(AE25=1,S25<=0.5),1,0) | X25: =IF(F25="Car",1,0) | Y25: =IF(AND(R25=1,OR(V25=0,AND(D25=39,IF(ISNUMBER(G25),G25,0)>0)),W25=0,S25>0.5),1,0) | Z25: =IF(X25=1,IF(J25>0,Limits!$B$5,Limits!$B$6)*S25,0) | AA25: =IF(Y25=1,MIN(IF(ISNUMBER(G25),MAX(0,G25),0),T25,IF(F25="SUV",Limits!$B$4,T25),IF(X25=1,Z25,T25)),0) | AB25: =IF(AND(R25=1,V25=0),T25-K25,0) | AC25: =IF(R25=1,IF(MONTH(B25)>=10,1,0),0) | AD25: =IF(R25=0,"",IF(V25=1,D25&"-MM"&MONTH(B25),IF(W25=1,"ADS",D25&"")&"-"&IF(I25="MQ","MQ"&ROUNDUP(MONTH(B25)/3,0),"HY"))) | AE25: =IF(OR(F25="",F25="No"),0,1) | AF25: =K25*IF(U25='Form 4562'!$B$3,'Form 4562'!$B$16,1)
I26: =IF(R26=0,"",IF(V26=1,"MM",IF(IFERROR(SUMPRODUCT(($U$2:$U$201=U26)*$AB$2:$AB$201*$AC$2:$AC$201)/SUMPRODUCT(($U$2:$U$201=U26)*$AB$2:$AB$201),0)>0.4,"MQ","HY"))) | J26: =IF(OR(R26=0,V26=1,W26=1),0,IF(ISNUMBER(H26),H26,IF(H26="No",0,IFERROR(VLOOKUP(B26,Limits!$D$2:$E$9,2,1),0)))) | K26: =AA26*IF(U26='Form 4562'!$B$3,'Form 4562'!$B$15,1) | L26: =(T26-K26)*J26 | M26: =T26-K26-L26 | N26: =IF(R26=0,0,IF(AND(('Form 4562'!$B$3-U26+1)>=1,('Form 4562'!$B$3-U26+1)<=40),INDEX(Schedule!$I$26:$AV$26,1,('Form 4562'!$B$3-U26+1)),0)) | O26: =IF(R26=0,0,SUMIF(Schedule!$I$1:$AV$1,"<="&('Form 4562'!$B$3-U26+1),Schedule!$I$26:$AV$26)) | P26: =T26-O26-(K26-AF26) | R26: =IF(AND(ISNUMBER(B26),ISNUMBER(C26)),IF(C26>0,1,0),0) | S26: =IF(ISNUMBER(E26),MIN(1,MAX(0,E26)),1) | T26: =IF(R26=1,C26*S26,0) | U26: =IF(R26=1,YEAR(B26),0) | V26: =IF(OR(D26=27.5,D26=39),1,0) | W26: =IF(AND(AE26=1,S26<=0.5),1,0) | X26: =IF(F26="Car",1,0) | Y26: =IF(AND(R26=1,OR(V26=0,AND(D26=39,IF(ISNUMBER(G26),G26,0)>0)),W26=0,S26>0.5),1,0) | Z26: =IF(X26=1,IF(J26>0,Limits!$B$5,Limits!$B$6)*S26,0) | AA26: =IF(Y26=1,MIN(IF(ISNUMBER(G26),MAX(0,G26),0),T26,IF(F26="SUV",Limits!$B$4,T26),IF(X26=1,Z26,T26)),0) | AB26: =IF(AND(R26=1,V26=0),T26-K26,0) | AC26: =IF(R26=1,IF(MONTH(B26)>=10,1,0),0) | AD26: =IF(R26=0,"",IF(V26=1,D26&"-MM"&MONTH(B26),IF(W26=1,"ADS",D26&"")&"-"&IF(I26="MQ","MQ"&ROUNDUP(MONTH(B26)/3,0),"HY"))) | AE26: =IF(OR(F26="",F26="No"),0,1) | AF26: =K26*IF(U26='Form 4562'!$B$3,'Form 4562'!$B$16,1)
I27: =IF(R27=0,"",IF(V27=1,"MM",IF(IFERROR(SUMPRODUCT(($U$2:$U$201=U27)*$AB$2:$AB$201*$AC$2:$AC$201)/SUMPRODUCT(($U$2:$U$201=U27)*$AB$2:$AB$201),0)>0.4,"MQ","HY"))) | J27: =IF(OR(R27=0,V27=1,W27=1),0,IF(ISNUMBER(H27),H27,IF(H27="No",0,IFERROR(VLOOKUP(B27,Limits!$D$2:$E$9,2,1),0)))) | K27: =AA27*IF(U27='Form 4562'!$B$3,'Form 4562'!$B$15,1) | L27: =(T27-K27)*J27 | M27: =T27-K27-L27 | N27: =IF(R27=0,0,IF(AND(('Form 4562'!$B$3-U27+1)>=1,('Form 4562'!$B$3-U27+1)<=40),INDEX(Schedule!$I$27:$AV$27,1,('Form 4562'!$B$3-U27+1)),0)) | O27: =IF(R27=0,0,SUMIF(Schedule!$I$1:$AV$1,"<="&('Form 4562'!$B$3-U27+1),Schedule!$I$27:$AV$27)) | P27: =T27-O27-(K27-AF27) | R27: =IF(AND(ISNUMBER(B27),ISNUMBER(C27)),IF(C27>0,1,0),0) | S27: =IF(ISNUMBER(E27),MIN(1,MAX(0,E27)),1) | T27: =IF(R27=1,C27*S27,0) | U27: =IF(R27=1,YEAR(B27),0) | V27: =IF(OR(D27=27.5,D27=39),1,0) | W27: =IF(AND(AE27=1,S27<=0.5),1,0) | X27: =IF(F27="Car",1,0) | Y27: =IF(AND(R27=1,OR(V27=0,AND(D27=39,IF(ISNUMBER(G27),G27,0)>0)),W27=0,S27>0.5),1,0) | Z27: =IF(X27=1,IF(J27>0,Limits!$B$5,Limits!$B$6)*S27,0) | AA27: =IF(Y27=1,MIN(IF(ISNUMBER(G27),MAX(0,G27),0),T27,IF(F27="SUV",Limits!$B$4,T27),IF(X27=1,Z27,T27)),0) | AB27: =IF(AND(R27=1,V27=0),T27-K27,0) | AC27: =IF(R27=1,IF(MONTH(B27)>=10,1,0),0) | AD27: =IF(R27=0,"",IF(V27=1,D27&"-MM"&MONTH(B27),IF(W27=1,"ADS",D27&"")&"-"&IF(I27="MQ","MQ"&ROUNDUP(MONTH(B27)/3,0),"HY"))) | AE27: =IF(OR(F27="",F27="No"),0,1) | AF27: =K27*IF(U27='Form 4562'!$B$3,'Form 4562'!$B$16,1)
I28: =IF(R28=0,"",IF(V28=1,"MM",IF(IFERROR(SUMPRODUCT(($U$2:$U$201=U28)*$AB$2:$AB$201*$AC$2:$AC$201)/SUMPRODUCT(($U$2:$U$201=U28)*$AB$2:$AB$201),0)>0.4,"MQ","HY"))) | J28: =IF(OR(R28=0,V28=1,W28=1),0,IF(ISNUMBER(H28),H28,IF(H28="No",0,IFERROR(VLOOKUP(B28,Limits!$D$2:$E$9,2,1),0)))) | K28: =AA28*IF(U28='Form 4562'!$B$3,'Form 4562'!$B$15,1) | L28: =(T28-K28)*J28 | M28: =T28-K28-L28 | N28: =IF(R28=0,0,IF(AND(('Form 4562'!$B$3-U28+1)>=1,('Form 4562'!$B$3-U28+1)<=40),INDEX(Schedule!$I$28:$AV$28,1,('Form 4562'!$B$3-U28+1)),0)) | O28: =IF(R28=0,0,SUMIF(Schedule!$I$1:$AV$1,"<="&('Form 4562'!$B$3-U28+1),Schedule!$I$28:$AV$28)) | P28: =T28-O28-(K28-AF28) | R28: =IF(AND(ISNUMBER(B28),ISNUMBER(C28)),IF(C28>0,1,0),0) | S28: =IF(ISNUMBER(E28),MIN(1,MAX(0,E28)),1) | T28: =IF(R28=1,C28*S28,0) | U28: =IF(R28=1,YEAR(B28),0) | V28: =IF(OR(D28=27.5,D28=39),1,0) | W28: =IF(AND(AE28=1,S28<=0.5),1,0) | X28: =IF(F28="Car",1,0) | Y28: =IF(AND(R28=1,OR(V28=0,AND(D28=39,IF(ISNUMBER(G28),G28,0)>0)),W28=0,S28>0.5),1,0) | Z28: =IF(X28=1,IF(J28>0,Limits!$B$5,Limits!$B$6)*S28,0) | AA28: =IF(Y28=1,MIN(IF(ISNUMBER(G28),MAX(0,G28),0),T28,IF(F28="SUV",Limits!$B$4,T28),IF(X28=1,Z28,T28)),0) | AB28: =IF(AND(R28=1,V28=0),T28-K28,0) | AC28: =IF(R28=1,IF(MONTH(B28)>=10,1,0),0) | AD28: =IF(R28=0,"",IF(V28=1,D28&"-MM"&MONTH(B28),IF(W28=1,"ADS",D28&"")&"-"&IF(I28="MQ","MQ"&ROUNDUP(MONTH(B28)/3,0),"HY"))) | AE28: =IF(OR(F28="",F28="No"),0,1) | AF28: =K28*IF(U28='Form 4562'!$B$3,'Form 4562'!$B$16,1)
I29: =IF(R29=0,"",IF(V29=1,"MM",IF(IFERROR(SUMPRODUCT(($U$2:$U$201=U29)*$AB$2:$AB$201*$AC$2:$AC$201)/SUMPRODUCT(($U$2:$U$201=U29)*$AB$2:$AB$201),0)>0.4,"MQ","HY"))) | J29: =IF(OR(R29=0,V29=1,W29=1),0,IF(ISNUMBER(H29),H29,IF(H29="No",0,IFERROR(VLOOKUP(B29,Limits!$D$2:$E$9,2,1),0)))) | K29: =AA29*IF(U29='Form 4562'!$B$3,'Form 4562'!$B$15,1) | L29: =(T29-K29)*J29 | M29: =T29-K29-L29 | N29: =IF(R29=0,0,IF(AND(('Form 4562'!$B$3-U29+1)>=1,('Form 4562'!$B$3-U29+1)<=40),INDEX(Schedule!$I$29:$AV$29,1,('Form 4562'!$B$3-U29+1)),0)) | O29: =IF(R29=0,0,SUMIF(Schedule!$I$1:$AV$1,"<="&('Form 4562'!$B$3-U29+1),Schedule!$I$29:$AV$29)) | P29: =T29-O29-(K29-AF29) | R29: =IF(AND(ISNUMBER(B29),ISNUMBER(C29)),IF(C29>0,1,0),0) | S29: =IF(ISNUMBER(E29),MIN(1,MAX(0,E29)),1) | T29: =IF(R29=1,C29*S29,0) | U29: =IF(R29=1,YEAR(B29),0) | V29: =IF(OR(D29=27.5,D29=39),1,0) | W29: =IF(AND(AE29=1,S29<=0.5),1,0) | X29: =IF(F29="Car",1,0) | Y29: =IF(AND(R29=1,OR(V29=0,AND(D29=39,IF(ISNUMBER(G29),G29,0)>0)),W29=0,S29>0.5),1,0) | Z29: =IF(X29=1,IF(J29>0,Limits!$B$5,Limits!$B$6)*S29,0) | AA29: =IF(Y29=1,MIN(IF(ISNUMBER(G29),MAX(0,G29),0),T29,IF(F29="SUV",Limits!$B$4,T29),IF(X29=1,Z29,T29)),0) | AB29: =IF(AND(R29=1,V29=0),T29-K29,0) | AC29: =IF(R29=1,IF(MONTH(B29)>=10,1,0),0) | AD29: =IF(R29=0,"",IF(V29=1,D29&"-MM"&MONTH(B29),IF(W29=1,"ADS",D29&"")&"-"&IF(I29="MQ","MQ"&ROUNDUP(MONTH(B29)/3,0),"HY"))) | AE29: =IF(OR(F29="",F29="No"),0,1) | AF29: =K29*IF(U29='Form 4562'!$B$3,'Form 4562'!$B$16,1)
I30: =IF(R30=0,"",IF(V30=1,"MM",IF(IFERROR(SUMPRODUCT(($U$2:$U$201=U30)*$AB$2:$AB$201*$AC$2:$AC$201)/SUMPRODUCT(($U$2:$U$201=U30)*$AB$2:$AB$201),0)>0.4,"MQ","HY"))) | J30: =IF(OR(R30=0,V30=1,W30=1),0,IF(ISNUMBER(H30),H30,IF(H30="No",0,IFERROR(VLOOKUP(B30,Limits!$D$2:$E$9,2,1),0)))) | K30: =AA30*IF(U30='Form 4562'!$B$3,'Form 4562'!$B$15,1) | L30: =(T30-K30)*J30 | M30: =T30-K30-L30 | N30: =IF(R30=0,0,IF(AND(('Form 4562'!$B$3-U30+1)>=1,('Form 4562'!$B$3-U30+1)<=40),INDEX(Schedule!$I$30:$AV$30,1,('Form 4562'!$B$3-U30+1)),0)) | O30: =IF(R30=0,0,SUMIF(Schedule!$I$1:$AV$1,"<="&('Form 4562'!$B$3-U30+1),Schedule!$I$30:$AV$30)) | P30: =T30-O30-(K30-AF30) | R30: =IF(AND(ISNUMBER(B30),ISNUMBER(C30)),IF(C30>0,1,0),0) | S30: =IF(ISNUMBER(E30),MIN(1,MAX(0,E30)),1) | T30: =IF(R30=1,C30*S30,0) | U30: =IF(R30=1,YEAR(B30),0) | V30: =IF(OR(D30=27.5,D30=39),1,0) | W30: =IF(AND(AE30=1,S30<=0.5),1,0) | X30: =IF(F30="Car",1,0) | Y30: =IF(AND(R30=1,OR(V30=0,AND(D30=39,IF(ISNUMBER(G30),G30,0)>0)),W30=0,S30>0.5),1,0) | Z30: =IF(X30=1,IF(J30>0,Limits!$B$5,Limits!$B$6)*S30,0) | AA30: =IF(Y30=1,MIN(IF(ISNUMBER(G30),MAX(0,G30),0),T30,IF(F30="SUV",Limits!$B$4,T30),IF(X30=1,Z30,T30)),0) | AB30: =IF(AND(R30=1,V30=0),T30-K30,0) | AC30: =IF(R30=1,IF(MONTH(B30)>=10,1,0),0) | AD30: =IF(R30=0,"",IF(V30=1,D30&"-MM"&MONTH(B30),IF(W30=1,"ADS",D30&"")&"-"&IF(I30="MQ","MQ"&ROUNDUP(MONTH(B30)/3,0),"HY"))) | AE30: =IF(OR(F30="",F30="No"),0,1) | AF30: =K30*IF(U30='Form 4562'!$B$3,'Form 4562'!$B$16,1)
I31: =IF(R31=0,"",IF(V31=1,"MM",IF(IFERROR(SUMPRODUCT(($U$2:$U$201=U31)*$AB$2:$AB$201*$AC$2:$AC$201)/SUMPRODUCT(($U$2:$U$201=U31)*$AB$2:$AB$201),0)>0.4,"MQ","HY"))) | J31: =IF(OR(R31=0,V31=1,W31=1),0,IF(ISNUMBER(H31),H31,IF(H31="No",0,IFERROR(VLOOKUP(B31,Limits!$D$2:$E$9,2,1),0)))) | K31: =AA31*IF(U31='Form 4562'!$B$3,'Form 4562'!$B$15,1) | L31: =(T31-K31)*J31 | M31: =T31-K31-L31 | N31: =IF(R31=0,0,IF(AND(('Form 4562'!$B$3-U31+1)>=1,('Form 4562'!$B$3-U31+1)<=40),INDEX(Schedule!$I$31:$AV$31,1,('Form 4562'!$B$3-U31+1)),0)) | O31: =IF(R31=0,0,SUMIF(Schedule!$I$1:$AV$1,"<="&('Form 4562'!$B$3-U31+1),Schedule!$I$31:$AV$31)) | P31: =T31-O31-(K31-AF31) | R31: =IF(AND(ISNUMBER(B31),ISNUMBER(C31)),IF(C31>0,1,0),0) | S31: =IF(ISNUMBER(E31),MIN(1,MAX(0,E31)),1) | T31: =IF(R31=1,C31*S31,0) | U31: =IF(R31=1,YEAR(B31),0) | V31: =IF(OR(D31=27.5,D31=39),1,0) | W31: =IF(AND(AE31=1,S31<=0.5),1,0) | X31: =IF(F31="Car",1,0) | Y31: =IF(AND(R31=1,OR(V31=0,AND(D31=39,IF(ISNUMBER(G31),G31,0)>0)),W31=0,S31>0.5),1,0) | Z31: =IF(X31=1,IF(J31>0,Limits!$B$5,Limits!$B$6)*S31,0) | AA31: =IF(Y31=1,MIN(IF(ISNUMBER(G31),MAX(0,G31),0),T31,IF(F31="SUV",Limits!$B$4,T31),IF(X31=1,Z31,T31)),0) | AB31: =IF(AND(R31=1,V31=0),T31-K31,0) | AC31: =IF(R31=1,IF(MONTH(B31)>=10,1,0),0) | AD31: =IF(R31=0,"",IF(V31=1,D31&"-MM"&MONTH(B31),IF(W31=1,"ADS",D31&"")&"-"&IF(I31="MQ","MQ"&ROUNDUP(MONTH(B31)/3,0),"HY"))) | AE31: =IF(OR(F31="",F31="No"),0,1) | AF31: =K31*IF(U31='Form 4562'!$B$3,'Form 4562'!$B$16,1)
I32: =IF(R32=0,"",IF(V32=1,"MM",IF(IFERROR(SUMPRODUCT(($U$2:$U$201=U32)*$AB$2:$AB$201*$AC$2:$AC$201)/SUMPRODUCT(($U$2:$U$201=U32)*$AB$2:$AB$201),0)>0.4,"MQ","HY"))) | J32: =IF(OR(R32=0,V32=1,W32=1),0,IF(ISNUMBER(H32),H32,IF(H32="No",0,IFERROR(VLOOKUP(B32,Limits!$D$2:$E$9,2,1),0)))) | K32: =AA32*IF(U32='Form 4562'!$B$3,'Form 4562'!$B$15,1) | L32: =(T32-K32)*J32 | M32: =T32-K32-L32 | N32: =IF(R32=0,0,IF(AND(('Form 4562'!$B$3-U32+1)>=1,('Form 4562'!$B$3-U32+1)<=40),INDEX(Schedule!$I$32:$AV$32,1,('Form 4562'!$B$3-U32+1)),0)) | O32: =IF(R32=0,0,SUMIF(Schedule!$I$1:$AV$1,"<="&('Form 4562'!$B$3-U32+1),Schedule!$I$32:$AV$32)) | P32: =T32-O32-(K32-AF32) | R32: =IF(AND(ISNUMBER(B32),ISNUMBER(C32)),IF(C32>0,1,0),0) | S32: =IF(ISNUMBER(E32),MIN(1,MAX(0,E32)),1) | T32: =IF(R32=1,C32*S32,0) | U32: =IF(R32=1,YEAR(B32),0) | V32: =IF(OR(D32=27.5,D32=39),1,0) | W32: =IF(AND(AE32=1,S32<=0.5),1,0) | X32: =IF(F32="Car",1,0) | Y32: =IF(AND(R32=1,OR(V32=0,AND(D32=39,IF(ISNUMBER(G32),G32,0)>0)),W32=0,S32>0.5),1,0) | Z32: =IF(X32=1,IF(J32>0,Limits!$B$5,Limits!$B$6)*S32,0) | AA32: =IF(Y32=1,MIN(IF(ISNUMBER(G32),MAX(0,G32),0),T32,IF(F32="SUV",Limits!$B$4,T32),IF(X32=1,Z32,T32)),0) | AB32: =IF(AND(R32=1,V32=0),T32-K32,0) | AC32: =IF(R32=1,IF(MONTH(B32)>=10,1,0),0) | AD32: =IF(R32=0,"",IF(V32=1,D32&"-MM"&MONTH(B32),IF(W32=1,"ADS",D32&"")&"-"&IF(I32="MQ","MQ"&ROUNDUP(MONTH(B32)/3,0),"HY"))) | AE32: =IF(OR(F32="",F32="No"),0,1) | AF32: =K32*IF(U32='Form 4562'!$B$3,'Form 4562'!$B$16,1)
I33: =IF(R33=0,"",IF(V33=1,"MM",IF(IFERROR(SUMPRODUCT(($U$2:$U$201=U33)*$AB$2:$AB$201*$AC$2:$AC$201)/SUMPRODUCT(($U$2:$U$201=U33)*$AB$2:$AB$201),0)>0.4,"MQ","HY"))) | J33: =IF(OR(R33=0,V33=1,W33=1),0,IF(ISNUMBER(H33),H33,IF(H33="No",0,IFERROR(VLOOKUP(B33,Limits!$D$2:$E$9,2,1),0)))) | K33: =AA33*IF(U33='Form 4562'!$B$3,'Form 4562'!$B$15,1) | L33: =(T33-K33)*J33 | M33: =T33-K33-L33 | N33: =IF(R33=0,0,IF(AND(('Form 4562'!$B$3-U33+1)>=1,('Form 4562'!$B$3-U33+1)<=40),INDEX(Schedule!$I$33:$AV$33,1,('Form 4562'!$B$3-U33+1)),0)) | O33: =IF(R33=0,0,SUMIF(Schedule!$I$1:$AV$1,"<="&('Form 4562'!$B$3-U33+1),Schedule!$I$33:$AV$33)) | P33: =T33-O33-(K33-AF33) | R33: =IF(AND(ISNUMBER(B33),ISNUMBER(C33)),IF(C33>0,1,0),0) | S33: =IF(ISNUMBER(E33),MIN(1,MAX(0,E33)),1) | T33: =IF(R33=1,C33*S33,0) | U33: =IF(R33=1,YEAR(B33),0) | V33: =IF(OR(D33=27.5,D33=39),1,0) | W33: =IF(AND(AE33=1,S33<=0.5),1,0) | X33: =IF(F33="Car",1,0) | Y33: =IF(AND(R33=1,OR(V33=0,AND(D33=39,IF(ISNUMBER(G33),G33,0)>0)),W33=0,S33>0.5),1,0) | Z33: =IF(X33=1,IF(J33>0,Limits!$B$5,Limits!$B$6)*S33,0) | AA33: =IF(Y33=1,MIN(IF(ISNUMBER(G33),MAX(0,G33),0),T33,IF(F33="SUV",Limits!$B$4,T33),IF(X33=1,Z33,T33)),0) | AB33: =IF(AND(R33=1,V33=0),T33-K33,0) | AC33: =IF(R33=1,IF(MONTH(B33)>=10,1,0),0) | AD33: =IF(R33=0,"",IF(V33=1,D33&"-MM"&MONTH(B33),IF(W33=1,"ADS",D33&"")&"-"&IF(I33="MQ","MQ"&ROUNDUP(MONTH(B33)/3,0),"HY"))) | AE33: =IF(OR(F33="",F33="No"),0,1) | AF33: =K33*IF(U33='Form 4562'!$B$3,'Form 4562'!$B$16,1)
I34: =IF(R34=0,"",IF(V34=1,"MM",IF(IFERROR(SUMPRODUCT(($U$2:$U$201=U34)*$AB$2:$AB$201*$AC$2:$AC$201)/SUMPRODUCT(($U$2:$U$201=U34)*$AB$2:$AB$201),0)>0.4,"MQ","HY"))) | J34: =IF(OR(R34=0,V34=1,W34=1),0,IF(ISNUMBER(H34),H34,IF(H34="No",0,IFERROR(VLOOKUP(B34,Limits!$D$2:$E$9,2,1),0)))) | K34: =AA34*IF(U34='Form 4562'!$B$3,'Form 4562'!$B$15,1) | L34: =(T34-K34)*J34 | M34: =T34-K34-L34 | N34: =IF(R34=0,0,IF(AND(('Form 4562'!$B$3-U34+1)>=1,('Form 4562'!$B$3-U34+1)<=40),INDEX(Schedule!$I$34:$AV$34,1,('Form 4562'!$B$3-U34+1)),0)) | O34: =IF(R34=0,0,SUMIF(Schedule!$I$1:$AV$1,"<="&('Form 4562'!$B$3-U34+1),Schedule!$I$34:$AV$34)) | P34: =T34-O34-(K34-AF34) | R34: =IF(AND(ISNUMBER(B34),ISNUMBER(C34)),IF(C34>0,1,0),0) | S34: =IF(ISNUMBER(E34),MIN(1,MAX(0,E34)),1) | T34: =IF(R34=1,C34*S34,0) | U34: =IF(R34=1,YEAR(B34),0) | V34: =IF(OR(D34=27.5,D34=39),1,0) | W34: =IF(AND(AE34=1,S34<=0.5),1,0) | X34: =IF(F34="Car",1,0) | Y34: =IF(AND(R34=1,OR(V34=0,AND(D34=39,IF(ISNUMBER(G34),G34,0)>0)),W34=0,S34>0.5),1,0) | Z34: =IF(X34=1,IF(J34>0,Limits!$B$5,Limits!$B$6)*S34,0) | AA34: =IF(Y34=1,MIN(IF(ISNUMBER(G34),MAX(0,G34),0),T34,IF(F34="SUV",Limits!$B$4,T34),IF(X34=1,Z34,T34)),0) | AB34: =IF(AND(R34=1,V34=0),T34-K34,0) | AC34: =IF(R34=1,IF(MONTH(B34)>=10,1,0),0) | AD34: =IF(R34=0,"",IF(V34=1,D34&"-MM"&MONTH(B34),IF(W34=1,"ADS",D34&"")&"-"&IF(I34="MQ","MQ"&ROUNDUP(MONTH(B34)/3,0),"HY"))) | AE34: =IF(OR(F34="",F34="No"),0,1) | AF34: =K34*IF(U34='Form 4562'!$B$3,'Form 4562'!$B$16,1)
I35: =IF(R35=0,"",IF(V35=1,"MM",IF(IFERROR(SUMPRODUCT(($U$2:$U$201=U35)*$AB$2:$AB$201*$AC$2:$AC$201)/SUMPRODUCT(($U$2:$U$201=U35)*$AB$2:$AB$201),0)>0.4,"MQ","HY"))) | J35: =IF(OR(R35=0,V35=1,W35=1),0,IF(ISNUMBER(H35),H35,IF(H35="No",0,IFERROR(VLOOKUP(B35,Limits!$D$2:$E$9,2,1),0)))) | K35: =AA35*IF(U35='Form 4562'!$B$3,'Form 4562'!$B$15,1) | L35: =(T35-K35)*J35 | M35: =T35-K35-L35 | N35: =IF(R35=0,0,IF(AND(('Form 4562'!$B$3-U35+1)>=1,('Form 4562'!$B$3-U35+1)<=40),INDEX(Schedule!$I$35:$AV$35,1,('Form 4562'!$B$3-U35+1)),0)) | O35: =IF(R35=0,0,SUMIF(Schedule!$I$1:$AV$1,"<="&('Form 4562'!$B$3-U35+1),Schedule!$I$35:$AV$35)) | P35: =T35-O35-(K35-AF35) | R35: =IF(AND(ISNUMBER(B35),ISNUMBER(C35)),IF(C35>0,1,0),0) | S35: =IF(ISNUMBER(E35),MIN(1,MAX(0,E35)),1) | T35: =IF(R35=1,C35*S35,0) | U35: =IF(R35=1,YEAR(B35),0) | V35: =IF(OR(D35=27.5,D35=39),1,0) | W35: =IF(AND(AE35=1,S35<=0.5),1,0) | X35: =IF(F35="Car",1,0) | Y35: =IF(AND(R35=1,OR(V35=0,AND(D35=39,IF(ISNUMBER(G35),G35,0)>0)),W35=0,S35>0.5),1,0) | Z35: =IF(X35=1,IF(J35>0,Limits!$B$5,Limits!$B$6)*S35,0) | AA35: =IF(Y35=1,MIN(IF(ISNUMBER(G35),MAX(0,G35),0),T35,IF(F35="SUV",Limits!$B$4,T35),IF(X35=1,Z35,T35)),0) | AB35: =IF(AND(R35=1,V35=0),T35-K35,0) | AC35: =IF(R35=1,IF(MONTH(B35)>=10,1,0),0) | AD35: =IF(R35=0,"",IF(V35=1,D35&"-MM"&MONTH(B35),IF(W35=1,"ADS",D35&"")&"-"&IF(I35="MQ","MQ"&ROUNDUP(MONTH(B35)/3,0),"HY"))) | AE35: =IF(OR(F35="",F35="No"),0,1) | AF35: =K35*IF(U35='Form 4562'!$B$3,'Form 4562'!$B$16,1)
I36: =IF(R36=0,"",IF(V36=1,"MM",IF(IFERROR(SUMPRODUCT(($U$2:$U$201=U36)*$AB$2:$AB$201*$AC$2:$AC$201)/SUMPRODUCT(($U$2:$U$201=U36)*$AB$2:$AB$201),0)>0.4,"MQ","HY"))) | J36: =IF(OR(R36=0,V36=1,W36=1),0,IF(ISNUMBER(H36),H36,IF(H36="No",0,IFERROR(VLOOKUP(B36,Limits!$D$2:$E$9,2,1),0)))) | K36: =AA36*IF(U36='Form 4562'!$B$3,'Form 4562'!$B$15,1) | L36: =(T36-K36)*J36 | M36: =T36-K36-L36 | N36: =IF(R36=0,0,IF(AND(('Form 4562'!$B$3-U36+1)>=1,('Form 4562'!$B$3-U36+1)<=40),INDEX(Schedule!$I$36:$AV$36,1,('Form 4562'!$B$3-U36+1)),0)) | O36: =IF(R36=0,0,SUMIF(Schedule!$I$1:$AV$1,"<="&('Form 4562'!$B$3-U36+1),Schedule!$I$36:$AV$36)) | P36: =T36-O36-(K36-AF36) | R36: =IF(AND(ISNUMBER(B36),ISNUMBER(C36)),IF(C36>0,1,0),0) | S36: =IF(ISNUMBER(E36),MIN(1,MAX(0,E36)),1) | T36: =IF(R36=1,C36*S36,0) | U36: =IF(R36=1,YEAR(B36),0) | V36: =IF(OR(D36=27.5,D36=39),1,0) | W36: =IF(AND(AE36=1,S36<=0.5),1,0) | X36: =IF(F36="Car",1,0) | Y36: =IF(AND(R36=1,OR(V36=0,AND(D36=39,IF(ISNUMBER(G36),G36,0)>0)),W36=0,S36>0.5),1,0) | Z36: =IF(X36=1,IF(J36>0,Limits!$B$5,Limits!$B$6)*S36,0) | AA36: =IF(Y36=1,MIN(IF(ISNUMBER(G36),MAX(0,G36),0),T36,IF(F36="SUV",Limits!$B$4,T36),IF(X36=1,Z36,T36)),0) | AB36: =IF(AND(R36=1,V36=0),T36-K36,0) | AC36: =IF(R36=1,IF(MONTH(B36)>=10,1,0),0) | AD36: =IF(R36=0,"",IF(V36=1,D36&"-MM"&MONTH(B36),IF(W36=1,"ADS",D36&"")&"-"&IF(I36="MQ","MQ"&ROUNDUP(MONTH(B36)/3,0),"HY"))) | AE36: =IF(OR(F36="",F36="No"),0,1) | AF36: =K36*IF(U36='Form 4562'!$B$3,'Form 4562'!$B$16,1)
I37: =IF(R37=0,"",IF(V37=1,"MM",IF(IFERROR(SUMPRODUCT(($U$2:$U$201=U37)*$AB$2:$AB$201*$AC$2:$AC$201)/SUMPRODUCT(($U$2:$U$201=U37)*$AB$2:$AB$201),0)>0.4,"MQ","HY"))) | J37: =IF(OR(R37=0,V37=1,W37=1),0,IF(ISNUMBER(H37),H37,IF(H37="No",0,IFERROR(VLOOKUP(B37,Limits!$D$2:$E$9,2,1),0)))) | K37: =AA37*IF(U37='Form 4562'!$B$3,'Form 4562'!$B$15,1) | L37: =(T37-K37)*J37 | M37: =T37-K37-L37 | N37: =IF(R37=0,0,IF(AND(('Form 4562'!$B$3-U37+1)>=1,('Form 4562'!$B$3-U37+1)<=40),INDEX(Schedule!$I$37:$AV$37,1,('Form 4562'!$B$3-U37+1)),0)) | O37: =IF(R37=0,0,SUMIF(Schedule!$I$1:$AV$1,"<="&('Form 4562'!$B$3-U37+1),Schedule!$I$37:$AV$37)) | P37: =T37-O37-(K37-AF37) | R37: =IF(AND(ISNUMBER(B37),ISNUMBER(C37)),IF(C37>0,1,0),0) | S37: =IF(ISNUMBER(E37),MIN(1,MAX(0,E37)),1) | T37: =IF(R37=1,C37*S37,0) | U37: =IF(R37=1,YEAR(B37),0) | V37: =IF(OR(D37=27.5,D37=39),1,0) | W37: =IF(AND(AE37=1,S37<=0.5),1,0) | X37: =IF(F37="Car",1,0) | Y37: =IF(AND(R37=1,OR(V37=0,AND(D37=39,IF(ISNUMBER(G37),G37,0)>0)),W37=0,S37>0.5),1,0) | Z37: =IF(X37=1,IF(J37>0,Limits!$B$5,Limits!$B$6)*S37,0) | AA37: =IF(Y37=1,MIN(IF(ISNUMBER(G37),MAX(0,G37),0),T37,IF(F37="SUV",Limits!$B$4,T37),IF(X37=1,Z37,T37)),0) | AB37: =IF(AND(R37=1,V37=0),T37-K37,0) | AC37: =IF(R37=1,IF(MONTH(B37)>=10,1,0),0) | AD37: =IF(R37=0,"",IF(V37=1,D37&"-MM"&MONTH(B37),IF(W37=1,"ADS",D37&"")&"-"&IF(I37="MQ","MQ"&ROUNDUP(MONTH(B37)/3,0),"HY"))) | AE37: =IF(OR(F37="",F37="No"),0,1) | AF37: =K37*IF(U37='Form 4562'!$B$3,'Form 4562'!$B$16,1)
I38: =IF(R38=0,"",IF(V38=1,"MM",IF(IFERROR(SUMPRODUCT(($U$2:$U$201=U38)*$AB$2:$AB$201*$AC$2:$AC$201)/SUMPRODUCT(($U$2:$U$201=U38)*$AB$2:$AB$201),0)>0.4,"MQ","HY"))) | J38: =IF(OR(R38=0,V38=1,W38=1),0,IF(ISNUMBER(H38),H38,IF(H38="No",0,IFERROR(VLOOKUP(B38,Limits!$D$2:$E$9,2,1),0)))) | K38: =AA38*IF(U38='Form 4562'!$B$3,'Form 4562'!$B$15,1) | L38: =(T38-K38)*J38 | M38: =T38-K38-L38 | N38: =IF(R38=0,0,IF(AND(('Form 4562'!$B$3-U38+1)>=1,('Form 4562'!$B$3-U38+1)<=40),INDEX(Schedule!$I$38:$AV$38,1,('Form 4562'!$B$3-U38+1)),0)) | O38: =IF(R38=0,0,SUMIF(Schedule!$I$1:$AV$1,"<="&('Form 4562'!$B$3-U38+1),Schedule!$I$38:$AV$38)) | P38: =T38-O38-(K38-AF38) | R38: =IF(AND(ISNUMBER(B38),ISNUMBER(C38)),IF(C38>0,1,0),0) | S38: =IF(ISNUMBER(E38),MIN(1,MAX(0,E38)),1) | T38: =IF(R38=1,C38*S38,0) | U38: =IF(R38=1,YEAR(B38),0) | V38: =IF(OR(D38=27.5,D38=39),1,0) | W38: =IF(AND(AE38=1,S38<=0.5),1,0) | X38: =IF(F38="Car",1,0) | Y38: =IF(AND(R38=1,OR(V38=0,AND(D38=39,IF(ISNUMBER(G38),G38,0)>0)),W38=0,S38>0.5),1,0) | Z38: =IF(X38=1,IF(J38>0,Limits!$B$5,Limits!$B$6)*S38,0) | AA38: =IF(Y38=1,MIN(IF(ISNUMBER(G38),MAX(0,G38),0),T38,IF(F38="SUV",Limits!$B$4,T38),IF(X38=1,Z38,T38)),0) | AB38: =IF(AND(R38=1,V38=0),T38-K38,0) | AC38: =IF(R38=1,IF(MONTH(B38)>=10,1,0),0) | AD38: =IF(R38=0,"",IF(V38=1,D38&"-MM"&MONTH(B38),IF(W38=1,"ADS",D38&"")&"-"&IF(I38="MQ","MQ"&ROUNDUP(MONTH(B38)/3,0),"HY"))) | AE38: =IF(OR(F38="",F38="No"),0,1) | AF38: =K38*IF(U38='Form 4562'!$B$3,'Form 4562'!$B$16,1)
I39: =IF(R39=0,"",IF(V39=1,"MM",IF(IFERROR(SUMPRODUCT(($U$2:$U$201=U39)*$AB$2:$AB$201*$AC$2:$AC$201)/SUMPRODUCT(($U$2:$U$201=U39)*$AB$2:$AB$201),0)>0.4,"MQ","HY"))) | J39: =IF(OR(R39=0,V39=1,W39=1),0,IF(ISNUMBER(H39),H39,IF(H39="No",0,IFERROR(VLOOKUP(B39,Limits!$D$2:$E$9,2,1),0)))) | K39: =AA39*IF(U39='Form 4562'!$B$3,'Form 4562'!$B$15,1) | L39: =(T39-K39)*J39 | M39: =T39-K39-L39 | N39: =IF(R39=0,0,IF(AND(('Form 4562'!$B$3-U39+1)>=1,('Form 4562'!$B$3-U39+1)<=40),INDEX(Schedule!$I$39:$AV$39,1,('Form 4562'!$B$3-U39+1)),0)) | O39: =IF(R39=0,0,SUMIF(Schedule!$I$1:$AV$1,"<="&('Form 4562'!$B$3-U39+1),Schedule!$I$39:$AV$39)) | P39: =T39-O39-(K39-AF39) | R39: =IF(AND(ISNUMBER(B39),ISNUMBER(C39)),IF(C39>0,1,0),0) | S39: =IF(ISNUMBER(E39),MIN(1,MAX(0,E39)),1) | T39: =IF(R39=1,C39*S39,0) | U39: =IF(R39=1,YEAR(B39),0) | V39: =IF(OR(D39=27.5,D39=39),1,0) | W39: =IF(AND(AE39=1,S39<=0.5),1,0) | X39: =IF(F39="Car",1,0) | Y39: =IF(AND(R39=1,OR(V39=0,AND(D39=39,IF(ISNUMBER(G39),G39,0)>0)),W39=0,S39>0.5),1,0) | Z39: =IF(X39=1,IF(J39>0,Limits!$B$5,Limits!$B$6)*S39,0) | AA39: =IF(Y39=1,MIN(IF(ISNUMBER(G39),MAX(0,G39),0),T39,IF(F39="SUV",Limits!$B$4,T39),IF(X39=1,Z39,T39)),0) | AB39: =IF(AND(R39=1,V39=0),T39-K39,0) | AC39: =IF(R39=1,IF(MONTH(B39)>=10,1,0),0) | AD39: =IF(R39=0,"",IF(V39=1,D39&"-MM"&MONTH(B39),IF(W39=1,"ADS",D39&"")&"-"&IF(I39="MQ","MQ"&ROUNDUP(MONTH(B39)/3,0),"HY"))) | AE39: =IF(OR(F39="",F39="No"),0,1) | AF39: =K39*IF(U39='Form 4562'!$B$3,'Form 4562'!$B$16,1)
I40: =IF(R40=0,"",IF(V40=1,"MM",IF(IFERROR(SUMPRODUCT(($U$2:$U$201=U40)*$AB$2:$AB$201*$AC$2:$AC$201)/SUMPRODUCT(($U$2:$U$201=U40)*$AB$2:$AB$201),0)>0.4,"MQ","HY"))) | J40: =IF(OR(R40=0,V40=1,W40=1),0,IF(ISNUMBER(H40),H40,IF(H40="No",0,IFERROR(VLOOKUP(B40,Limits!$D$2:$E$9,2,1),0)))) | K40: =AA40*IF(U40='Form 4562'!$B$3,'Form 4562'!$B$15,1) | L40: =(T40-K40)*J40 | M40: =T40-K40-L40 | N40: =IF(R40=0,0,IF(AND(('Form 4562'!$B$3-U40+1)>=1,('Form 4562'!$B$3-U40+1)<=40),INDEX(Schedule!$I$40:$AV$40,1,('Form 4562'!$B$3-U40+1)),0)) | O40: =IF(R40=0,0,SUMIF(Schedule!$I$1:$AV$1,"<="&('Form 4562'!$B$3-U40+1),Schedule!$I$40:$AV$40)) | P40: =T40-O40-(K40-AF40) | R40: =IF(AND(ISNUMBER(B40),ISNUMBER(C40)),IF(C40>0,1,0),0) | S40: =IF(ISNUMBER(E40),MIN(1,MAX(0,E40)),1) | T40: =IF(R40=1,C40*S40,0) | U40: =IF(R40=1,YEAR(B40),0) | V40: =IF(OR(D40=27.5,D40=39),1,0) | W40: =IF(AND(AE40=1,S40<=0.5),1,0) | X40: =IF(F40="Car",1,0) | Y40: =IF(AND(R40=1,OR(V40=0,AND(D40=39,IF(ISNUMBER(G40),G40,0)>0)),W40=0,S40>0.5),1,0) | Z40: =IF(X40=1,IF(J40>0,Limits!$B$5,Limits!$B$6)*S40,0) | AA40: =IF(Y40=1,MIN(IF(ISNUMBER(G40),MAX(0,G40),0),T40,IF(F40="SUV",Limits!$B$4,T40),IF(X40=1,Z40,T40)),0) | AB40: =IF(AND(R40=1,V40=0),T40-K40,0) | AC40: =IF(R40=1,IF(MONTH(B40)>=10,1,0),0) | AD40: =IF(R40=0,"",IF(V40=1,D40&"-MM"&MONTH(B40),IF(W40=1,"ADS",D40&"")&"-"&IF(I40="MQ","MQ"&ROUNDUP(MONTH(B40)/3,0),"HY"))) | AE40: =IF(OR(F40="",F40="No"),0,1) | AF40: =K40*IF(U40='Form 4562'!$B$3,'Form 4562'!$B$16,1)
...

Sheet Form 4562
A1: Form 4562 summary for the tax year
A2: Business
A3: Tax year | B3: 2026
A4: Business income for the Section 179 limit (blank = none)
A6: Part I. Section 179
A7: Line 1. Maximum amount | B7: =Limits!$B$2
A8: Line 2. Section 179 property placed in service | B8: =SUMPRODUCT((Assets!$U$2:$U$201=B3)*Assets!$Y$2:$Y$201*Assets!$T$2:$T$201)
A9: Line 3. Threshold before the limit shrinks | B9: =Limits!$B$3
A10: Line 4. Reduction | B10: =MAX(0,B8-B9)
A11: Line 5. Dollar limit for the year | B11: =MAX(0,B7-B10)
A12: Line 8. Section 179 elected | B12: =SUMIF(Assets!$U$2:$U$201,B3,Assets!$AA$2:$AA$201)
A13: Line 9. Tentative deduction | B13: =MIN(B11,B12)
A14: Line 11. Business income limitation | B14: =IF(ISNUMBER(B4),MIN(B11,MAX(0,B4)),"")
A15: Share of each election within the dollar limit | B15: =IF(B12=0,1,B13/B12)
A16: Share deducted this year after the income limit | B16: =IF(B13=0,1,IF(ISNUMBER(B14),MIN(B13,B14),B13)/B13)
A17: Line 12. Section 179 expense deduction | B17: =SUMIF(Assets!$U$2:$U$201,B3,Assets!$AF$2:$AF$201)
A18: Line 13. Carryover to next year | B18: =B13-B17
A19: Part II. Special depreciation allowance
A20: Line 14. Bonus depreciation, excluding listed property | B20: =SUMPRODUCT((Assets!$U$2:$U$201=B3)*(Assets!$AE$2:$AE$201=0)*Assets!$L$2:$L$201)
A21: Part III. MACRS depreciation
A22: Line 17. Assets placed in service in earlier years | B22: =SUMPRODUCT((Assets!$U$2:$U$201<B3)*(Assets!$R$2:$R$201=1)*(Assets!$AE$2:$AE$201=0)*Assets!$N$2:$N$201)
A23: Line 19a. 3-year property placed this year | B23: =SUMPRODUCT((Assets!$U$2:$U$201=B3)*(Assets!$AE$2:$AE$201=0)*(Assets!$D$2:$D$201=3)*(Assets!$N$2:$N$201-Assets!$AF$2:$AF$201-Assets!$L$2:$L$201))
A24: Line 19b. 5-year property placed this year | B24: =SUMPRODUCT((Assets!$U$2:$U$201=B3)*(Assets!$AE$2:$AE$201=0)*(Assets!$D$2:$D$201=5)*(Assets!$N$2:$N$201-Assets!$AF$2:$AF$201-Assets!$L$2:$L$201))
A25: Line 19c. 7-year property placed this year | B25: =SUMPRODUCT((Assets!$U$2:$U$201=B3)*(Assets!$AE$2:$AE$201=0)*(Assets!$D$2:$D$201=7)*(Assets!$N$2:$N$201-Assets!$AF$2:$AF$201-Assets!$L$2:$L$201))
A26: Line 19d. 10-year property placed this year | B26: =SUMPRODUCT((Assets!$U$2:$U$201=B3)*(Assets!$AE$2:$AE$201=0)*(Assets!$D$2:$D$201=10)*(Assets!$N$2:$N$201-Assets!$AF$2:$AF$201-Assets!$L$2:$L$201))
A27: Line 19e. 15-year property placed this year | B27: =SUMPRODUCT((Assets!$U$2:$U$201=B3)*(Assets!$AE$2:$AE$201=0)*(Assets!$D$2:$D$201=15)*(Assets!$N$2:$N$201-Assets!$AF$2:$AF$201-Assets!$L$2:$L$201))
