Workbook

Sheet Mileage log
A1: Date | B1: From | C1: To | D1: Business purpose | E1: Odometer start | F1: Odometer end | G1: Miles | H1: Rate | I1: Mileage amount | J1: Parking and tolls
G2: =IF(AND(ISNUMBER(E2),ISNUMBER(F2)),F2-E2,"") | H2: =IF(OR(A2="",G2=""),"",IF(ISNUMBER(Summary!$B$4),Summary!$B$4,LOOKUP(A2,Rates!$A$2:$A$5,Rates!$B$2:$B$5))) | I2: =IF(H2="","",ROUND(G2*H2,2))
G3: =IF(AND(ISNUMBER(E3),ISNUMBER(F3)),F3-E3,"") | H3: =IF(OR(A3="",G3=""),"",IF(ISNUMBER(Summary!$B$4),Summary!$B$4,LOOKUP(A3,Rates!$A$2:$A$5,Rates!$B$2:$B$5))) | I3: =IF(H3="","",ROUND(G3*H3,2))
G4: =IF(AND(ISNUMBER(E4),ISNUMBER(F4)),F4-E4,"") | H4: =IF(OR(A4="",G4=""),"",IF(ISNUMBER(Summary!$B$4),Summary!$B$4,LOOKUP(A4,Rates!$A$2:$A$5,Rates!$B$2:$B$5))) | I4: =IF(H4="","",ROUND(G4*H4,2))
G5: =IF(AND(ISNUMBER(E5),ISNUMBER(F5)),F5-E5,"") | H5: =IF(OR(A5="",G5=""),"",IF(ISNUMBER(Summary!$B$4),Summary!$B$4,LOOKUP(A5,Rates!$A$2:$A$5,Rates!$B$2:$B$5))) | I5: =IF(H5="","",ROUND(G5*H5,2))
G6: =IF(AND(ISNUMBER(E6),ISNUMBER(F6)),F6-E6,"") | H6: =IF(OR(A6="",G6=""),"",IF(ISNUMBER(Summary!$B$4),Summary!$B$4,LOOKUP(A6,Rates!$A$2:$A$5,Rates!$B$2:$B$5))) | I6: =IF(H6="","",ROUND(G6*H6,2))
G7: =IF(AND(ISNUMBER(E7),ISNUMBER(F7)),F7-E7,"") | H7: =IF(OR(A7="",G7=""),"",IF(ISNUMBER(Summary!$B$4),Summary!$B$4,LOOKUP(A7,Rates!$A$2:$A$5,Rates!$B$2:$B$5))) | I7: =IF(H7="","",ROUND(G7*H7,2))
G8: =IF(AND(ISNUMBER(E8),ISNUMBER(F8)),F8-E8,"") | H8: =IF(OR(A8="",G8=""),"",IF(ISNUMBER(Summary!$B$4),Summary!$B$4,LOOKUP(A8,Rates!$A$2:$A$5,Rates!$B$2:$B$5))) | I8: =IF(H8="","",ROUND(G8*H8,2))
G9: =IF(AND(ISNUMBER(E9),ISNUMBER(F9)),F9-E9,"") | H9: =IF(OR(A9="",G9=""),"",IF(ISNUMBER(Summary!$B$4),Summary!$B$4,LOOKUP(A9,Rates!$A$2:$A$5,Rates!$B$2:$B$5))) | I9: =IF(H9="","",ROUND(G9*H9,2))
G10: =IF(AND(ISNUMBER(E10),ISNUMBER(F10)),F10-E10,"") | H10: =IF(OR(A10="",G10=""),"",IF(ISNUMBER(Summary!$B$4),Summary!$B$4,LOOKUP(A10,Rates!$A$2:$A$5,Rates!$B$2:$B$5))) | I10: =IF(H10="","",ROUND(G10*H10,2))
G11: =IF(AND(ISNUMBER(E11),ISNUMBER(F11)),F11-E11,"") | H11: =IF(OR(A11="",G11=""),"",IF(ISNUMBER(Summary!$B$4),Summary!$B$4,LOOKUP(A11,Rates!$A$2:$A$5,Rates!$B$2:$B$5))) | I11: =IF(H11="","",ROUND(G11*H11,2))
G12: =IF(AND(ISNUMBER(E12),ISNUMBER(F12)),F12-E12,"") | H12: =IF(OR(A12="",G12=""),"",IF(ISNUMBER(Summary!$B$4),Summary!$B$4,LOOKUP(A12,Rates!$A$2:$A$5,Rates!$B$2:$B$5))) | I12: =IF(H12="","",ROUND(G12*H12,2))
G13: =IF(AND(ISNUMBER(E13),ISNUMBER(F13)),F13-E13,"") | H13: =IF(OR(A13="",G13=""),"",IF(ISNUMBER(Summary!$B$4),Summary!$B$4,LOOKUP(A13,Rates!$A$2:$A$5,Rates!$B$2:$B$5))) | I13: =IF(H13="","",ROUND(G13*H13,2))
... G301: =IF(AND(ISNUMBER(E301),ISNUMBER(F301)),F301-E301,"") | H301: =IF(OR(A301="",G301=""),"",IF(ISNUMBER(Summary!$B$4),Summary!$B$4,LOOKUP(A301,Rates!$A$2:$A$5,Rates!$B$2:$B$5))) | I301: =IF(H301="","",ROUND(G301*H301,2))

Sheet Summary
A1: Business or driver
A2: Vehicle
A3: Tax year | B3: 2026
A4: Company rate per mile (blank = IRS rate)
A5: Odometer on January 1
A6: Odometer on December 31
A8: Business miles | B8: =SUM('Mileage log'!G2:G301)
A9: Mileage amount | B9: =SUM('Mileage log'!I2:I301)
A10: Parking and tolls | B10: =SUM('Mileage log'!J2:J301)
A11: Total | B11: =B9+B10
A12: Business use of the vehicle | B12: =IF(AND(ISNUMBER(B5),ISNUMBER(B6),B6>B5),B8/(B6-B5),"")

Sheet Rates
A1: From | B1: Rate per mile
A2: 45292 | B2: 0.67
A3: 45658 | B3: 0.7
A4: 46023 | B4: 0.725
A5: 46204 | B5: 0.76
A7: IRS business standard mileage rates. Add a row when the IRS announces a new rate.
A8: https://www.irs.gov/tax-professionals/standard-mileage-rates
